BEGIN:VCALENDAR
VERSION:2.0
PRODID:-//Lavery&#039;s - ECPv6.15.18//NONSGML v1.0//EN
CALSCALE:GREGORIAN
METHOD:PUBLISH
X-WR-CALNAME:Lavery&#039;s
X-ORIGINAL-URL:https://laverys.com
X-WR-CALDESC:Events for Lavery&#039;s
REFRESH-INTERVAL;VALUE=DURATION:PT1H
X-Robots-Tag:noindex
X-PUBLISHED-TTL:PT1H
BEGIN:VTIMEZONE
TZID:UTC
BEGIN:STANDARD
TZOFFSETFROM:+0000
TZOFFSETTO:+0000
TZNAME:UTC
DTSTART:20250101T000000
END:STANDARD
END:VTIMEZONE
BEGIN:VEVENT
DTSTART;TZID=UTC:20260718T210000
DTEND;TZID=UTC:20260719T011500
DTSTAMP:20260420T100736
CREATED:20260309T105415Z
LAST-MODIFIED:20260324T152858Z
UID:10004528-1784408400-1784423700@laverys.com
SUMMARY:Resident DJs: Pete Woods
DESCRIPTION:Having spent many years playing at all of the major local night clubs (alongside local hard-hitters and national acts alike)\, holding multiple residencies\, DJing special events and promoting his own shows\, Pete has had a lot of time to develop his sound.
URL:https://laverys.com/event/resident-djs-pete-woods-4/2026-07-18/
LOCATION:Lavery’s\, 12-18 Bradbury Place\, Belfast\, Antrim\, BT71RS\, United Kingdom
CATEGORIES:DJ
ATTACH;FMTTYPE=image/jpeg:https://laverys.com/wp-content/uploads/2024/03/Paddys-Day-2024-2093-e1767884440841.jpg
ORGANIZER;CN="Lavery's":MAILTO:info@laverys.com
END:VEVENT
BEGIN:VEVENT
DTSTART;TZID=UTC:20260718T210000
DTEND;TZID=UTC:20260719T011500
DTSTAMP:20260420T100736
CREATED:20260309T111012Z
LAST-MODIFIED:20260324T162727Z
UID:10004536-1784408400-1784423700@laverys.com
SUMMARY:Resident DJs: David Gilmore
DESCRIPTION:David has had a lot of time to develop his sound. For him\, it’s all about mood and a deep\, hypnotic groove… playing those tracks that get you tapping your feet and nodding your head without you realising it.
URL:https://laverys.com/event/resident-djs-david-gilmore-3/2026-07-18/
LOCATION:Lavery’s\, 12-18 Bradbury Place\, Belfast\, Antrim\, BT71RS\, United Kingdom
CATEGORIES:DJ
ATTACH;FMTTYPE=image/jpeg:https://laverys.com/wp-content/uploads/2026/02/Halloween-18.jpg
ORGANIZER;CN="Lavery's":MAILTO:info@laverys.com
END:VEVENT
END:VCALENDAR