BEGIN:VCALENDAR
VERSION:2.0
PRODID:-//Lavery&#039;s - ECPv6.15.20//NONSGML v1.0//EN
CALSCALE:GREGORIAN
METHOD:PUBLISH
X-ORIGINAL-URL:https://laverys.com
X-WR-CALDESC:Events for Lavery&#039;s
REFRESH-INTERVAL;VALUE=DURATION:PT1H
X-Robots-Tag:noindex
X-PUBLISHED-TTL:PT1H
BEGIN:VTIMEZONE
TZID:UTC
BEGIN:STANDARD
TZOFFSETFROM:+0000
TZOFFSETTO:+0000
TZNAME:UTC
DTSTART:20250101T000000
END:STANDARD
END:VTIMEZONE
BEGIN:VEVENT
DTSTART;TZID=UTC:20260724T210000
DTEND;TZID=UTC:20260725T011500
DTSTAMP:20260421T180614
CREATED:20250526T145404Z
LAST-MODIFIED:20260324T164035Z
UID:10004540-1784926800-1784942100@laverys.com
SUMMARY:Jamie Nevin
DESCRIPTION:Jamie has been one of our longest residing residents\, and for good reason. Member of Belfast low tempo collective The Shrub\, Jamie’s sets are as diverse as any playing in chilled out high energy rooms.
URL:https://laverys.com/event/jamie-nevin-3/2026-07-24/
LOCATION:Lavery’s\, 12-18 Bradbury Place\, Belfast\, Antrim\, BT71RS\, United Kingdom
CATEGORIES:DJ
ATTACH;FMTTYPE=image/jpeg:https://laverys.com/wp-content/uploads/2024/10/IMG_1578-copy-e1748271226841.jpg
ORGANIZER;CN="Lavery's":MAILTO:info@laverys.com
END:VEVENT
BEGIN:VEVENT
DTSTART;TZID=UTC:20260724T210000
DTEND;TZID=UTC:20260725T011500
DTSTAMP:20260421T180614
CREATED:20260309T153353Z
LAST-MODIFIED:20260324T164802Z
UID:10004544-1784926800-1784942100@laverys.com
SUMMARY:Resident DJs: Stevie Dougal
DESCRIPTION:Stevie becomes every venues favourite DJ instantaneously. His sets are high energy and adaptable to any setting.
URL:https://laverys.com/event/resident-djs-stevie-dougal-3/2026-07-24/
LOCATION:Lavery’s\, 12-18 Bradbury Place\, Belfast\, Antrim\, BT71RS\, United Kingdom
CATEGORIES:DJ
ATTACH;FMTTYPE=image/jpeg:https://laverys.com/wp-content/uploads/2026/01/Screenshot-2026-01-08-at-16.14.13-e1767888934162.jpg
ORGANIZER;CN="Lavery's":MAILTO:info@laverys.com
END:VEVENT
END:VCALENDAR