BEGIN:VCALENDAR
VERSION:2.0
PRODID:-//Lavery&#039;s - ECPv6.15.20//NONSGML v1.0//EN
CALSCALE:GREGORIAN
METHOD:PUBLISH
X-WR-CALNAME:Lavery&#039;s
X-ORIGINAL-URL:https://laverys.com
X-WR-CALDESC:Events for Lavery&#039;s
REFRESH-INTERVAL;VALUE=DURATION:PT1H
X-Robots-Tag:noindex
X-PUBLISHED-TTL:PT1H
BEGIN:VTIMEZONE
TZID:UTC
BEGIN:STANDARD
TZOFFSETFROM:+0000
TZOFFSETTO:+0000
TZNAME:UTC
DTSTART:20240101T000000
END:STANDARD
END:VTIMEZONE
BEGIN:VEVENT
DTSTART;TZID=UTC:20250903T193000
DTEND;TZID=UTC:20250903T233000
DTSTAMP:20260424T212535
CREATED:20250730T140137Z
LAST-MODIFIED:20250730T140140Z
UID:10000281-1756927800-1756942200@laverys.com
SUMMARY:Lavery's Comedy Club - Wednesday 3rd September
DESCRIPTION:
URL:https://laverys.com/event/laverys-comedy-club-wed-3-sep-25/
LOCATION:Tom’s\, 12-18 Bradbury Place\, Belfast\, Antrim\, BT71RS\, United Kingdom
CATEGORIES:Lavery's Comedy Club
ATTACH;FMTTYPE=image/png:https://laverys.com/wp-content/uploads/2023/02/Facebook-Event2-1.png
ORGANIZER;CN="Both Barrels Comedy":MAILTO:comedy@laverys.com
END:VEVENT
BEGIN:VEVENT
DTSTART;TZID=UTC:20250904T193000
DTEND;TZID=UTC:20250904T233000
DTSTAMP:20260424T212535
CREATED:20250730T140317Z
LAST-MODIFIED:20250828T152723Z
UID:10000282-1757014200-1757028600@laverys.com
SUMMARY:Lavery's Comedy Club - Thursday 4th September
DESCRIPTION:Colin Geddis has curated one of the funniest comedy nights Belfast has to offer. He transforms our middle floor into an intimate\, side-splittingly funny evening with guaranteed laughs; get down early to avoid sitting in the front row
URL:https://laverys.com/event/thursday-4th-sep-2025/
LOCATION:Tom’s\, 12-18 Bradbury Place\, Belfast\, Antrim\, BT71RS\, United Kingdom
CATEGORIES:Lavery's Comedy Club
ATTACH;FMTTYPE=image/png:https://laverys.com/wp-content/uploads/2023/02/Facebook-Event2-1.png
ORGANIZER;CN="Both Barrels Comedy":MAILTO:comedy@laverys.com
END:VEVENT
BEGIN:VEVENT
DTSTART;TZID=UTC:20250910T193000
DTEND;TZID=UTC:20250910T233000
DTSTAMP:20260424T212535
CREATED:20250827T134733Z
LAST-MODIFIED:20250827T135029Z
UID:10000283-1757532600-1757547000@laverys.com
SUMMARY:Lavery's Comedy Club - Wednesday 10th September
DESCRIPTION:Colin Geddis has curated one of the funniest comedy nights Belfast has to offer. He transforms our middle floor into an intimate\, side-splittingly funny evening with guaranteed laughs; get down early to avoid sitting in the front row.
URL:https://laverys.com/event/wednesday-10th-sep-2025/
LOCATION:Tom’s\, 12-18 Bradbury Place\, Belfast\, Antrim\, BT71RS\, United Kingdom
CATEGORIES:Lavery's Comedy Club
ATTACH;FMTTYPE=image/png:https://laverys.com/wp-content/uploads/2023/02/Facebook-Event2-1.png
ORGANIZER;CN="Both Barrels Comedy":MAILTO:comedy@laverys.com
END:VEVENT
BEGIN:VEVENT
DTSTART;TZID=UTC:20250911T193000
DTEND;TZID=UTC:20250911T233000
DTSTAMP:20260424T212535
CREATED:20250827T134919Z
LAST-MODIFIED:20250827T134923Z
UID:10000284-1757619000-1757633400@laverys.com
SUMMARY:Lavery's Comedy Club - Thursday 11th September
DESCRIPTION:
URL:https://laverys.com/event/thursday-11th-sep-2025/
LOCATION:Tom’s\, 12-18 Bradbury Place\, Belfast\, Antrim\, BT71RS\, United Kingdom
CATEGORIES:Lavery's Comedy Club
ATTACH;FMTTYPE=image/png:https://laverys.com/wp-content/uploads/2023/02/Facebook-Event2-1.png
ORGANIZER;CN="Both Barrels Comedy":MAILTO:comedy@laverys.com
END:VEVENT
BEGIN:VEVENT
DTSTART;TZID=UTC:20250917T193000
DTEND;TZID=UTC:20250917T233000
DTSTAMP:20260424T212535
CREATED:20250827T153857Z
LAST-MODIFIED:20250827T153910Z
UID:10000285-1758137400-1758151800@laverys.com
SUMMARY:Lavery's Comedy Club - Wednesday 17th September
DESCRIPTION:Colin Geddis has curated one of the funniest comedy nights Belfast has to offer. He transforms our middle floor into an intimate\, side-splittingly funny evening with guaranteed laughs; get down early to avoid sitting in the front row.
URL:https://laverys.com/event/wednesday-17th-sep-2025/
LOCATION:Tom’s\, 12-18 Bradbury Place\, Belfast\, Antrim\, BT71RS\, United Kingdom
CATEGORIES:Lavery's Comedy Club
ATTACH;FMTTYPE=image/png:https://laverys.com/wp-content/uploads/2023/02/Facebook-Event2-1.png
ORGANIZER;CN="Both Barrels Comedy":MAILTO:comedy@laverys.com
END:VEVENT
BEGIN:VEVENT
DTSTART;TZID=UTC:20250918T193000
DTEND;TZID=UTC:20250918T233000
DTSTAMP:20260424T212535
CREATED:20250827T154043Z
LAST-MODIFIED:20250827T154342Z
UID:10000286-1758223800-1758238200@laverys.com
SUMMARY:Lavery's Comedy Club - Thursday 18th September
DESCRIPTION:Colin Geddis has curated one of the funniest comedy nights Belfast has to offer. He transforms our middle floor into an intimate\, side-splittingly funny evening with guaranteed laughs; get down early to avoid sitting in the front row.
URL:https://laverys.com/event/thursday-18th-sep-2025/
LOCATION:Tom’s\, 12-18 Bradbury Place\, Belfast\, Antrim\, BT71RS\, United Kingdom
CATEGORIES:Lavery's Comedy Club
ATTACH;FMTTYPE=image/png:https://laverys.com/wp-content/uploads/2023/02/Facebook-Event2-1.png
ORGANIZER;CN="Both Barrels Comedy":MAILTO:comedy@laverys.com
END:VEVENT
BEGIN:VEVENT
DTSTART;TZID=UTC:20250924T193000
DTEND;TZID=UTC:20250924T233000
DTSTAMP:20260424T212535
CREATED:20250827T154338Z
LAST-MODIFIED:20250828T152637Z
UID:10000287-1758742200-1758756600@laverys.com
SUMMARY:Lavery's Comedy Club - Wednesday 24th September
DESCRIPTION:Colin Geddis has curated one of the funniest comedy nights Belfast has to offer. He transforms our middle floor into an intimate\, side-splittingly funny evening with guaranteed laughs; get down early to avoid sitting in the front row.
URL:https://laverys.com/event/wednesday-24th-sep-2025/
LOCATION:Tom’s\, 12-18 Bradbury Place\, Belfast\, Antrim\, BT71RS\, United Kingdom
CATEGORIES:Lavery's Comedy Club
ATTACH;FMTTYPE=image/png:https://laverys.com/wp-content/uploads/2023/02/Facebook-Event2-1.png
ORGANIZER;CN="Both Barrels Comedy":MAILTO:comedy@laverys.com
END:VEVENT
BEGIN:VEVENT
DTSTART;TZID=UTC:20250925T193000
DTEND;TZID=UTC:20250925T233000
DTSTAMP:20260424T212535
CREATED:20250828T140141Z
LAST-MODIFIED:20250828T140316Z
UID:10000288-1758828600-1758843000@laverys.com
SUMMARY:Lavery's Comedy Club - Thursday 25th September
DESCRIPTION:Colin Geddis has curated one of the funniest comedy nights Belfast has to offer. He transforms our middle floor into an intimate\, side-splittingly funny evening with guaranteed laughs; get down early to avoid sitting in the front row.
URL:https://laverys.com/event/thursday-25th-sep-2025/
LOCATION:Tom’s\, 12-18 Bradbury Place\, Belfast\, Antrim\, BT71RS\, United Kingdom
CATEGORIES:Lavery's Comedy Club
ATTACH;FMTTYPE=image/png:https://laverys.com/wp-content/uploads/2023/02/Facebook-Event2-1.png
ORGANIZER;CN="Both Barrels Comedy":MAILTO:comedy@laverys.com
END:VEVENT
END:VCALENDAR