BEGIN:VCALENDAR
VERSION:2.0
PRODID:-//Lavery&#039;s - ECPv6.15.18//NONSGML v1.0//EN
CALSCALE:GREGORIAN
METHOD:PUBLISH
X-ORIGINAL-URL:https://laverys.com
X-WR-CALDESC:Events for Lavery&#039;s
REFRESH-INTERVAL;VALUE=DURATION:PT1H
X-Robots-Tag:noindex
X-PUBLISHED-TTL:PT1H
BEGIN:VTIMEZONE
TZID:UTC
BEGIN:STANDARD
TZOFFSETFROM:+0000
TZOFFSETTO:+0000
TZNAME:UTC
DTSTART:20250101T000000
END:STANDARD
END:VTIMEZONE
BEGIN:VEVENT
DTSTART;TZID=UTC:20261008T193000
DTEND;TZID=UTC:20261008T233000
DTSTAMP:20260420T082128
CREATED:20230519T102146Z
LAST-MODIFIED:20240311T215058Z
UID:10000396-1791487800-1791502200@laverys.com
SUMMARY:Lavery's Comedy Club
DESCRIPTION:All dates are currently on sale here. If the date you are looking for is not on sale yet\, please check back soon.
URL:https://laverys.com/event/laverys-comedy-club-4-2/2026-10-08/
LOCATION:Tom’s\, 12-18 Bradbury Place\, Belfast\, Antrim\, BT71RS\, United Kingdom
CATEGORIES:Lavery's Comedy Club
ATTACH;FMTTYPE=image/png:https://laverys.com/wp-content/uploads/2023/02/Facebook-Event2-1.png
ORGANIZER;CN="Both Barrels Comedy":MAILTO:comedy@laverys.com
END:VEVENT
BEGIN:VEVENT
DTSTART;TZID=UTC:20261014T193000
DTEND;TZID=UTC:20261014T233000
DTSTAMP:20260420T082128
CREATED:20230519T102146Z
LAST-MODIFIED:20240311T215058Z
UID:10000397-1792006200-1792020600@laverys.com
SUMMARY:Lavery's Comedy Club
DESCRIPTION:All dates are currently on sale here. If the date you are looking for is not on sale yet\, please check back soon.
URL:https://laverys.com/event/laverys-comedy-club-4-2/2026-10-14/
LOCATION:Tom’s\, 12-18 Bradbury Place\, Belfast\, Antrim\, BT71RS\, United Kingdom
CATEGORIES:Lavery's Comedy Club
ATTACH;FMTTYPE=image/png:https://laverys.com/wp-content/uploads/2023/02/Facebook-Event2-1.png
ORGANIZER;CN="Both Barrels Comedy":MAILTO:comedy@laverys.com
END:VEVENT
BEGIN:VEVENT
DTSTART;TZID=UTC:20261015T193000
DTEND;TZID=UTC:20261015T233000
DTSTAMP:20260420T082128
CREATED:20230519T102146Z
LAST-MODIFIED:20240311T215058Z
UID:10000398-1792092600-1792107000@laverys.com
SUMMARY:Lavery's Comedy Club
DESCRIPTION:All dates are currently on sale here. If the date you are looking for is not on sale yet\, please check back soon.
URL:https://laverys.com/event/laverys-comedy-club-4-2/2026-10-15/
LOCATION:Tom’s\, 12-18 Bradbury Place\, Belfast\, Antrim\, BT71RS\, United Kingdom
CATEGORIES:Lavery's Comedy Club
ATTACH;FMTTYPE=image/png:https://laverys.com/wp-content/uploads/2023/02/Facebook-Event2-1.png
ORGANIZER;CN="Both Barrels Comedy":MAILTO:comedy@laverys.com
END:VEVENT
BEGIN:VEVENT
DTSTART;TZID=UTC:20261021T193000
DTEND;TZID=UTC:20261021T233000
DTSTAMP:20260420T082128
CREATED:20230519T102146Z
LAST-MODIFIED:20240311T215058Z
UID:10000399-1792611000-1792625400@laverys.com
SUMMARY:Lavery's Comedy Club
DESCRIPTION:All dates are currently on sale here. If the date you are looking for is not on sale yet\, please check back soon.
URL:https://laverys.com/event/laverys-comedy-club-4-2/2026-10-21/
LOCATION:Tom’s\, 12-18 Bradbury Place\, Belfast\, Antrim\, BT71RS\, United Kingdom
CATEGORIES:Lavery's Comedy Club
ATTACH;FMTTYPE=image/png:https://laverys.com/wp-content/uploads/2023/02/Facebook-Event2-1.png
ORGANIZER;CN="Both Barrels Comedy":MAILTO:comedy@laverys.com
END:VEVENT
BEGIN:VEVENT
DTSTART;TZID=UTC:20261022T193000
DTEND;TZID=UTC:20261022T233000
DTSTAMP:20260420T082128
CREATED:20230519T102146Z
LAST-MODIFIED:20240311T215058Z
UID:10000400-1792697400-1792711800@laverys.com
SUMMARY:Lavery's Comedy Club
DESCRIPTION:All dates are currently on sale here. If the date you are looking for is not on sale yet\, please check back soon.
URL:https://laverys.com/event/laverys-comedy-club-4-2/2026-10-22/
LOCATION:Tom’s\, 12-18 Bradbury Place\, Belfast\, Antrim\, BT71RS\, United Kingdom
CATEGORIES:Lavery's Comedy Club
ATTACH;FMTTYPE=image/png:https://laverys.com/wp-content/uploads/2023/02/Facebook-Event2-1.png
ORGANIZER;CN="Both Barrels Comedy":MAILTO:comedy@laverys.com
END:VEVENT
BEGIN:VEVENT
DTSTART;TZID=UTC:20261028T193000
DTEND;TZID=UTC:20261028T233000
DTSTAMP:20260420T082128
CREATED:20230519T102146Z
LAST-MODIFIED:20240311T215058Z
UID:10000401-1793215800-1793230200@laverys.com
SUMMARY:Lavery's Comedy Club
DESCRIPTION:All dates are currently on sale here. If the date you are looking for is not on sale yet\, please check back soon.
URL:https://laverys.com/event/laverys-comedy-club-4-2/2026-10-28/
LOCATION:Tom’s\, 12-18 Bradbury Place\, Belfast\, Antrim\, BT71RS\, United Kingdom
CATEGORIES:Lavery's Comedy Club
ATTACH;FMTTYPE=image/png:https://laverys.com/wp-content/uploads/2023/02/Facebook-Event2-1.png
ORGANIZER;CN="Both Barrels Comedy":MAILTO:comedy@laverys.com
END:VEVENT
BEGIN:VEVENT
DTSTART;TZID=UTC:20261029T193000
DTEND;TZID=UTC:20261029T233000
DTSTAMP:20260420T082128
CREATED:20230519T102146Z
LAST-MODIFIED:20240311T215058Z
UID:10000402-1793302200-1793316600@laverys.com
SUMMARY:Lavery's Comedy Club
DESCRIPTION:All dates are currently on sale here. If the date you are looking for is not on sale yet\, please check back soon.
URL:https://laverys.com/event/laverys-comedy-club-4-2/2026-10-29/
LOCATION:Tom’s\, 12-18 Bradbury Place\, Belfast\, Antrim\, BT71RS\, United Kingdom
CATEGORIES:Lavery's Comedy Club
ATTACH;FMTTYPE=image/png:https://laverys.com/wp-content/uploads/2023/02/Facebook-Event2-1.png
ORGANIZER;CN="Both Barrels Comedy":MAILTO:comedy@laverys.com
END:VEVENT
BEGIN:VEVENT
DTSTART;TZID=UTC:20261104T193000
DTEND;TZID=UTC:20261104T233000
DTSTAMP:20260420T082128
CREATED:20230519T102146Z
LAST-MODIFIED:20240311T215058Z
UID:10000403-1793820600-1793835000@laverys.com
SUMMARY:Lavery's Comedy Club
DESCRIPTION:All dates are currently on sale here. If the date you are looking for is not on sale yet\, please check back soon.
URL:https://laverys.com/event/laverys-comedy-club-4-2/2026-11-04/
LOCATION:Tom’s\, 12-18 Bradbury Place\, Belfast\, Antrim\, BT71RS\, United Kingdom
CATEGORIES:Lavery's Comedy Club
ATTACH;FMTTYPE=image/png:https://laverys.com/wp-content/uploads/2023/02/Facebook-Event2-1.png
ORGANIZER;CN="Both Barrels Comedy":MAILTO:comedy@laverys.com
END:VEVENT
BEGIN:VEVENT
DTSTART;TZID=UTC:20261105T193000
DTEND;TZID=UTC:20261105T233000
DTSTAMP:20260420T082128
CREATED:20230519T102146Z
LAST-MODIFIED:20240311T215058Z
UID:10000404-1793907000-1793921400@laverys.com
SUMMARY:Lavery's Comedy Club
DESCRIPTION:All dates are currently on sale here. If the date you are looking for is not on sale yet\, please check back soon.
URL:https://laverys.com/event/laverys-comedy-club-4-2/2026-11-05/
LOCATION:Tom’s\, 12-18 Bradbury Place\, Belfast\, Antrim\, BT71RS\, United Kingdom
CATEGORIES:Lavery's Comedy Club
ATTACH;FMTTYPE=image/png:https://laverys.com/wp-content/uploads/2023/02/Facebook-Event2-1.png
ORGANIZER;CN="Both Barrels Comedy":MAILTO:comedy@laverys.com
END:VEVENT
BEGIN:VEVENT
DTSTART;TZID=UTC:20261111T193000
DTEND;TZID=UTC:20261111T233000
DTSTAMP:20260420T082128
CREATED:20230519T102146Z
LAST-MODIFIED:20240311T215058Z
UID:10000405-1794425400-1794439800@laverys.com
SUMMARY:Lavery's Comedy Club
DESCRIPTION:All dates are currently on sale here. If the date you are looking for is not on sale yet\, please check back soon.
URL:https://laverys.com/event/laverys-comedy-club-4-2/2026-11-11/
LOCATION:Tom’s\, 12-18 Bradbury Place\, Belfast\, Antrim\, BT71RS\, United Kingdom
CATEGORIES:Lavery's Comedy Club
ATTACH;FMTTYPE=image/png:https://laverys.com/wp-content/uploads/2023/02/Facebook-Event2-1.png
ORGANIZER;CN="Both Barrels Comedy":MAILTO:comedy@laverys.com
END:VEVENT
BEGIN:VEVENT
DTSTART;TZID=UTC:20261112T193000
DTEND;TZID=UTC:20261112T233000
DTSTAMP:20260420T082128
CREATED:20230519T102146Z
LAST-MODIFIED:20240311T215058Z
UID:10000406-1794511800-1794526200@laverys.com
SUMMARY:Lavery's Comedy Club
DESCRIPTION:All dates are currently on sale here. If the date you are looking for is not on sale yet\, please check back soon.
URL:https://laverys.com/event/laverys-comedy-club-4-2/2026-11-12/
LOCATION:Tom’s\, 12-18 Bradbury Place\, Belfast\, Antrim\, BT71RS\, United Kingdom
CATEGORIES:Lavery's Comedy Club
ATTACH;FMTTYPE=image/png:https://laverys.com/wp-content/uploads/2023/02/Facebook-Event2-1.png
ORGANIZER;CN="Both Barrels Comedy":MAILTO:comedy@laverys.com
END:VEVENT
BEGIN:VEVENT
DTSTART;TZID=UTC:20261118T193000
DTEND;TZID=UTC:20261118T233000
DTSTAMP:20260420T082128
CREATED:20230519T102146Z
LAST-MODIFIED:20240311T215058Z
UID:10000407-1795030200-1795044600@laverys.com
SUMMARY:Lavery's Comedy Club
DESCRIPTION:All dates are currently on sale here. If the date you are looking for is not on sale yet\, please check back soon.
URL:https://laverys.com/event/laverys-comedy-club-4-2/2026-11-18/
LOCATION:Tom’s\, 12-18 Bradbury Place\, Belfast\, Antrim\, BT71RS\, United Kingdom
CATEGORIES:Lavery's Comedy Club
ATTACH;FMTTYPE=image/png:https://laverys.com/wp-content/uploads/2023/02/Facebook-Event2-1.png
ORGANIZER;CN="Both Barrels Comedy":MAILTO:comedy@laverys.com
END:VEVENT
BEGIN:VEVENT
DTSTART;TZID=UTC:20261119T193000
DTEND;TZID=UTC:20261119T233000
DTSTAMP:20260420T082128
CREATED:20230519T102146Z
LAST-MODIFIED:20240311T215058Z
UID:10000408-1795116600-1795131000@laverys.com
SUMMARY:Lavery's Comedy Club
DESCRIPTION:All dates are currently on sale here. If the date you are looking for is not on sale yet\, please check back soon.
URL:https://laverys.com/event/laverys-comedy-club-4-2/2026-11-19/
LOCATION:Tom’s\, 12-18 Bradbury Place\, Belfast\, Antrim\, BT71RS\, United Kingdom
CATEGORIES:Lavery's Comedy Club
ATTACH;FMTTYPE=image/png:https://laverys.com/wp-content/uploads/2023/02/Facebook-Event2-1.png
ORGANIZER;CN="Both Barrels Comedy":MAILTO:comedy@laverys.com
END:VEVENT
BEGIN:VEVENT
DTSTART;TZID=UTC:20261125T193000
DTEND;TZID=UTC:20261125T233000
DTSTAMP:20260420T082128
CREATED:20230519T102146Z
LAST-MODIFIED:20240311T215058Z
UID:10000409-1795635000-1795649400@laverys.com
SUMMARY:Lavery's Comedy Club
DESCRIPTION:All dates are currently on sale here. If the date you are looking for is not on sale yet\, please check back soon.
URL:https://laverys.com/event/laverys-comedy-club-4-2/2026-11-25/
LOCATION:Tom’s\, 12-18 Bradbury Place\, Belfast\, Antrim\, BT71RS\, United Kingdom
CATEGORIES:Lavery's Comedy Club
ATTACH;FMTTYPE=image/png:https://laverys.com/wp-content/uploads/2023/02/Facebook-Event2-1.png
ORGANIZER;CN="Both Barrels Comedy":MAILTO:comedy@laverys.com
END:VEVENT
BEGIN:VEVENT
DTSTART;TZID=UTC:20261126T193000
DTEND;TZID=UTC:20261126T233000
DTSTAMP:20260420T082128
CREATED:20230519T102146Z
LAST-MODIFIED:20240311T215058Z
UID:10000410-1795721400-1795735800@laverys.com
SUMMARY:Lavery's Comedy Club
DESCRIPTION:All dates are currently on sale here. If the date you are looking for is not on sale yet\, please check back soon.
URL:https://laverys.com/event/laverys-comedy-club-4-2/2026-11-26/
LOCATION:Tom’s\, 12-18 Bradbury Place\, Belfast\, Antrim\, BT71RS\, United Kingdom
CATEGORIES:Lavery's Comedy Club
ATTACH;FMTTYPE=image/png:https://laverys.com/wp-content/uploads/2023/02/Facebook-Event2-1.png
ORGANIZER;CN="Both Barrels Comedy":MAILTO:comedy@laverys.com
END:VEVENT
BEGIN:VEVENT
DTSTART;TZID=UTC:20261202T193000
DTEND;TZID=UTC:20261202T233000
DTSTAMP:20260420T082128
CREATED:20230519T102146Z
LAST-MODIFIED:20240311T215058Z
UID:10000411-1796239800-1796254200@laverys.com
SUMMARY:Lavery's Comedy Club
DESCRIPTION:All dates are currently on sale here. If the date you are looking for is not on sale yet\, please check back soon.
URL:https://laverys.com/event/laverys-comedy-club-4-2/2026-12-02/
LOCATION:Tom’s\, 12-18 Bradbury Place\, Belfast\, Antrim\, BT71RS\, United Kingdom
CATEGORIES:Lavery's Comedy Club
ATTACH;FMTTYPE=image/png:https://laverys.com/wp-content/uploads/2023/02/Facebook-Event2-1.png
ORGANIZER;CN="Both Barrels Comedy":MAILTO:comedy@laverys.com
END:VEVENT
BEGIN:VEVENT
DTSTART;TZID=UTC:20261203T193000
DTEND;TZID=UTC:20261203T233000
DTSTAMP:20260420T082128
CREATED:20230519T102146Z
LAST-MODIFIED:20240311T215058Z
UID:10000412-1796326200-1796340600@laverys.com
SUMMARY:Lavery's Comedy Club
DESCRIPTION:All dates are currently on sale here. If the date you are looking for is not on sale yet\, please check back soon.
URL:https://laverys.com/event/laverys-comedy-club-4-2/2026-12-03/
LOCATION:Tom’s\, 12-18 Bradbury Place\, Belfast\, Antrim\, BT71RS\, United Kingdom
CATEGORIES:Lavery's Comedy Club
ATTACH;FMTTYPE=image/png:https://laverys.com/wp-content/uploads/2023/02/Facebook-Event2-1.png
ORGANIZER;CN="Both Barrels Comedy":MAILTO:comedy@laverys.com
END:VEVENT
BEGIN:VEVENT
DTSTART;TZID=UTC:20261209T193000
DTEND;TZID=UTC:20261209T233000
DTSTAMP:20260420T082128
CREATED:20230519T102146Z
LAST-MODIFIED:20240311T215058Z
UID:10000413-1796844600-1796859000@laverys.com
SUMMARY:Lavery's Comedy Club
DESCRIPTION:All dates are currently on sale here. If the date you are looking for is not on sale yet\, please check back soon.
URL:https://laverys.com/event/laverys-comedy-club-4-2/2026-12-09/
LOCATION:Tom’s\, 12-18 Bradbury Place\, Belfast\, Antrim\, BT71RS\, United Kingdom
CATEGORIES:Lavery's Comedy Club
ATTACH;FMTTYPE=image/png:https://laverys.com/wp-content/uploads/2023/02/Facebook-Event2-1.png
ORGANIZER;CN="Both Barrels Comedy":MAILTO:comedy@laverys.com
END:VEVENT
BEGIN:VEVENT
DTSTART;TZID=UTC:20261210T193000
DTEND;TZID=UTC:20261210T233000
DTSTAMP:20260420T082128
CREATED:20230519T102146Z
LAST-MODIFIED:20240311T215058Z
UID:10000414-1796931000-1796945400@laverys.com
SUMMARY:Lavery's Comedy Club
DESCRIPTION:All dates are currently on sale here. If the date you are looking for is not on sale yet\, please check back soon.
URL:https://laverys.com/event/laverys-comedy-club-4-2/2026-12-10/
LOCATION:Tom’s\, 12-18 Bradbury Place\, Belfast\, Antrim\, BT71RS\, United Kingdom
CATEGORIES:Lavery's Comedy Club
ATTACH;FMTTYPE=image/png:https://laverys.com/wp-content/uploads/2023/02/Facebook-Event2-1.png
ORGANIZER;CN="Both Barrels Comedy":MAILTO:comedy@laverys.com
END:VEVENT
BEGIN:VEVENT
DTSTART;TZID=UTC:20261216T193000
DTEND;TZID=UTC:20261216T233000
DTSTAMP:20260420T082128
CREATED:20230519T102146Z
LAST-MODIFIED:20240311T215058Z
UID:10000415-1797449400-1797463800@laverys.com
SUMMARY:Lavery's Comedy Club
DESCRIPTION:All dates are currently on sale here. If the date you are looking for is not on sale yet\, please check back soon.
URL:https://laverys.com/event/laverys-comedy-club-4-2/2026-12-16/
LOCATION:Tom’s\, 12-18 Bradbury Place\, Belfast\, Antrim\, BT71RS\, United Kingdom
CATEGORIES:Lavery's Comedy Club
ATTACH;FMTTYPE=image/png:https://laverys.com/wp-content/uploads/2023/02/Facebook-Event2-1.png
ORGANIZER;CN="Both Barrels Comedy":MAILTO:comedy@laverys.com
END:VEVENT
BEGIN:VEVENT
DTSTART;TZID=UTC:20261217T193000
DTEND;TZID=UTC:20261217T233000
DTSTAMP:20260420T082128
CREATED:20230519T102146Z
LAST-MODIFIED:20240311T215058Z
UID:10000416-1797535800-1797550200@laverys.com
SUMMARY:Lavery's Comedy Club
DESCRIPTION:All dates are currently on sale here. If the date you are looking for is not on sale yet\, please check back soon.
URL:https://laverys.com/event/laverys-comedy-club-4-2/2026-12-17/
LOCATION:Tom’s\, 12-18 Bradbury Place\, Belfast\, Antrim\, BT71RS\, United Kingdom
CATEGORIES:Lavery's Comedy Club
ATTACH;FMTTYPE=image/png:https://laverys.com/wp-content/uploads/2023/02/Facebook-Event2-1.png
ORGANIZER;CN="Both Barrels Comedy":MAILTO:comedy@laverys.com
END:VEVENT
BEGIN:VEVENT
DTSTART;TZID=UTC:20261223T193000
DTEND;TZID=UTC:20261223T233000
DTSTAMP:20260420T082128
CREATED:20230519T102146Z
LAST-MODIFIED:20240311T215058Z
UID:10000417-1798054200-1798068600@laverys.com
SUMMARY:Lavery's Comedy Club
DESCRIPTION:All dates are currently on sale here. If the date you are looking for is not on sale yet\, please check back soon.
URL:https://laverys.com/event/laverys-comedy-club-4-2/2026-12-23/
LOCATION:Tom’s\, 12-18 Bradbury Place\, Belfast\, Antrim\, BT71RS\, United Kingdom
CATEGORIES:Lavery's Comedy Club
ATTACH;FMTTYPE=image/png:https://laverys.com/wp-content/uploads/2023/02/Facebook-Event2-1.png
ORGANIZER;CN="Both Barrels Comedy":MAILTO:comedy@laverys.com
END:VEVENT
BEGIN:VEVENT
DTSTART;TZID=UTC:20261224T193000
DTEND;TZID=UTC:20261224T233000
DTSTAMP:20260420T082128
CREATED:20230519T102146Z
LAST-MODIFIED:20240311T215058Z
UID:10000418-1798140600-1798155000@laverys.com
SUMMARY:Lavery's Comedy Club
DESCRIPTION:All dates are currently on sale here. If the date you are looking for is not on sale yet\, please check back soon.
URL:https://laverys.com/event/laverys-comedy-club-4-2/2026-12-24/
LOCATION:Tom’s\, 12-18 Bradbury Place\, Belfast\, Antrim\, BT71RS\, United Kingdom
CATEGORIES:Lavery's Comedy Club
ATTACH;FMTTYPE=image/png:https://laverys.com/wp-content/uploads/2023/02/Facebook-Event2-1.png
ORGANIZER;CN="Both Barrels Comedy":MAILTO:comedy@laverys.com
END:VEVENT
BEGIN:VEVENT
DTSTART;TZID=UTC:20261230T193000
DTEND;TZID=UTC:20261230T233000
DTSTAMP:20260420T082128
CREATED:20230519T102146Z
LAST-MODIFIED:20240311T215058Z
UID:10000419-1798659000-1798673400@laverys.com
SUMMARY:Lavery's Comedy Club
DESCRIPTION:All dates are currently on sale here. If the date you are looking for is not on sale yet\, please check back soon.
URL:https://laverys.com/event/laverys-comedy-club-4-2/2026-12-30/
LOCATION:Tom’s\, 12-18 Bradbury Place\, Belfast\, Antrim\, BT71RS\, United Kingdom
CATEGORIES:Lavery's Comedy Club
ATTACH;FMTTYPE=image/png:https://laverys.com/wp-content/uploads/2023/02/Facebook-Event2-1.png
ORGANIZER;CN="Both Barrels Comedy":MAILTO:comedy@laverys.com
END:VEVENT
BEGIN:VEVENT
DTSTART;TZID=UTC:20261231T193000
DTEND;TZID=UTC:20261231T233000
DTSTAMP:20260420T082128
CREATED:20230519T102146Z
LAST-MODIFIED:20240311T215058Z
UID:10000420-1798745400-1798759800@laverys.com
SUMMARY:Lavery's Comedy Club
DESCRIPTION:All dates are currently on sale here. If the date you are looking for is not on sale yet\, please check back soon.
URL:https://laverys.com/event/laverys-comedy-club-4-2/2026-12-31/
LOCATION:Tom’s\, 12-18 Bradbury Place\, Belfast\, Antrim\, BT71RS\, United Kingdom
CATEGORIES:Lavery's Comedy Club
ATTACH;FMTTYPE=image/png:https://laverys.com/wp-content/uploads/2023/02/Facebook-Event2-1.png
ORGANIZER;CN="Both Barrels Comedy":MAILTO:comedy@laverys.com
END:VEVENT
BEGIN:VEVENT
DTSTART;TZID=UTC:20270106T193000
DTEND;TZID=UTC:20270106T233000
DTSTAMP:20260420T082128
CREATED:20230519T102146Z
LAST-MODIFIED:20240311T215058Z
UID:10000421-1799263800-1799278200@laverys.com
SUMMARY:Lavery's Comedy Club
DESCRIPTION:All dates are currently on sale here. If the date you are looking for is not on sale yet\, please check back soon.
URL:https://laverys.com/event/laverys-comedy-club-4-2/2027-01-06/
LOCATION:Tom’s\, 12-18 Bradbury Place\, Belfast\, Antrim\, BT71RS\, United Kingdom
CATEGORIES:Lavery's Comedy Club
ATTACH;FMTTYPE=image/png:https://laverys.com/wp-content/uploads/2023/02/Facebook-Event2-1.png
ORGANIZER;CN="Both Barrels Comedy":MAILTO:comedy@laverys.com
END:VEVENT
BEGIN:VEVENT
DTSTART;TZID=UTC:20270107T193000
DTEND;TZID=UTC:20270107T233000
DTSTAMP:20260420T082128
CREATED:20230519T102146Z
LAST-MODIFIED:20240311T215058Z
UID:10000422-1799350200-1799364600@laverys.com
SUMMARY:Lavery's Comedy Club
DESCRIPTION:All dates are currently on sale here. If the date you are looking for is not on sale yet\, please check back soon.
URL:https://laverys.com/event/laverys-comedy-club-4-2/2027-01-07/
LOCATION:Tom’s\, 12-18 Bradbury Place\, Belfast\, Antrim\, BT71RS\, United Kingdom
CATEGORIES:Lavery's Comedy Club
ATTACH;FMTTYPE=image/png:https://laverys.com/wp-content/uploads/2023/02/Facebook-Event2-1.png
ORGANIZER;CN="Both Barrels Comedy":MAILTO:comedy@laverys.com
END:VEVENT
BEGIN:VEVENT
DTSTART;TZID=UTC:20270113T193000
DTEND;TZID=UTC:20270113T233000
DTSTAMP:20260420T082128
CREATED:20230519T102146Z
LAST-MODIFIED:20240311T215058Z
UID:10000423-1799868600-1799883000@laverys.com
SUMMARY:Lavery's Comedy Club
DESCRIPTION:All dates are currently on sale here. If the date you are looking for is not on sale yet\, please check back soon.
URL:https://laverys.com/event/laverys-comedy-club-4-2/2027-01-13/
LOCATION:Tom’s\, 12-18 Bradbury Place\, Belfast\, Antrim\, BT71RS\, United Kingdom
CATEGORIES:Lavery's Comedy Club
ATTACH;FMTTYPE=image/png:https://laverys.com/wp-content/uploads/2023/02/Facebook-Event2-1.png
ORGANIZER;CN="Both Barrels Comedy":MAILTO:comedy@laverys.com
END:VEVENT
BEGIN:VEVENT
DTSTART;TZID=UTC:20270114T193000
DTEND;TZID=UTC:20270114T233000
DTSTAMP:20260420T082128
CREATED:20230519T102146Z
LAST-MODIFIED:20240311T215058Z
UID:10000424-1799955000-1799969400@laverys.com
SUMMARY:Lavery's Comedy Club
DESCRIPTION:All dates are currently on sale here. If the date you are looking for is not on sale yet\, please check back soon.
URL:https://laverys.com/event/laverys-comedy-club-4-2/2027-01-14/
LOCATION:Tom’s\, 12-18 Bradbury Place\, Belfast\, Antrim\, BT71RS\, United Kingdom
CATEGORIES:Lavery's Comedy Club
ATTACH;FMTTYPE=image/png:https://laverys.com/wp-content/uploads/2023/02/Facebook-Event2-1.png
ORGANIZER;CN="Both Barrels Comedy":MAILTO:comedy@laverys.com
END:VEVENT
BEGIN:VEVENT
DTSTART;TZID=UTC:20270120T193000
DTEND;TZID=UTC:20270120T233000
DTSTAMP:20260420T082128
CREATED:20230519T102146Z
LAST-MODIFIED:20240311T215058Z
UID:10000425-1800473400-1800487800@laverys.com
SUMMARY:Lavery's Comedy Club
DESCRIPTION:All dates are currently on sale here. If the date you are looking for is not on sale yet\, please check back soon.
URL:https://laverys.com/event/laverys-comedy-club-4-2/2027-01-20/
LOCATION:Tom’s\, 12-18 Bradbury Place\, Belfast\, Antrim\, BT71RS\, United Kingdom
CATEGORIES:Lavery's Comedy Club
ATTACH;FMTTYPE=image/png:https://laverys.com/wp-content/uploads/2023/02/Facebook-Event2-1.png
ORGANIZER;CN="Both Barrels Comedy":MAILTO:comedy@laverys.com
END:VEVENT
END:VCALENDAR