BEGIN:VCALENDAR
VERSION:2.0
PRODID:-//Lavery&#039;s - ECPv6.15.20//NONSGML v1.0//EN
CALSCALE:GREGORIAN
METHOD:PUBLISH
X-ORIGINAL-URL:https://laverys.com
X-WR-CALDESC:Events for Lavery&#039;s
REFRESH-INTERVAL;VALUE=DURATION:PT1H
X-Robots-Tag:noindex
X-PUBLISHED-TTL:PT1H
BEGIN:VTIMEZONE
TZID:UTC
BEGIN:STANDARD
TZOFFSETFROM:+0000
TZOFFSETTO:+0000
TZNAME:UTC
DTSTART:20230101T000000
END:STANDARD
END:VTIMEZONE
BEGIN:VEVENT
DTSTART;TZID=UTC:20241213T200000
DTEND;TZID=UTC:20241213T220000
DTSTAMP:20260425T181050
CREATED:20241210T132126Z
LAST-MODIFIED:20241210T132126Z
UID:10003536-1734120000-1734127200@laverys.com
SUMMARY:Stick With It
DESCRIPTION:As the lads put it..”We’ll be playing some songs you know and some songs you don’t know\, but that’s all part of the Stick With It experience”.  \nWhatever song it is you do hear\, it’s guaranteed to have you up dancing!
URL:https://laverys.com/event/stick-with-it-3/
LOCATION:Lavery’s\, 12-18 Bradbury Place\, Belfast\, Antrim\, BT71RS\, United Kingdom
CATEGORIES:Live at Lavery's
ATTACH;FMTTYPE=image/jpeg:https://laverys.com/wp-content/uploads/2024/11/Screenshot-2024-11-26-at-14.30.47-e1732631573267.jpg
ORGANIZER;CN="Lavery's":MAILTO:info@laverys.com
END:VEVENT
BEGIN:VEVENT
DTSTART;TZID=UTC:20241213T203000
DTEND;TZID=UTC:20241213T224500
DTSTAMP:20260425T181050
CREATED:20241107T172018Z
LAST-MODIFIED:20241107T182106Z
UID:10003491-1734121800-1734129900@laverys.com
SUMMARY:Raymie Eastwood
DESCRIPTION:Raymie has been gigging in Ireland and abroad for a number of years. Not only is he on one of the most naturally born performers you’re likely to see\, his sets combine modern\, classic and even dance hits. \n\nWith his upbeat nature and comedic twist of audience interaction\, you know it’s a party when Raymie gets behind the mic!
URL:https://laverys.com/event/raymie-eastwood-4/
LOCATION:Lavery’s\, 12-18 Bradbury Place\, Belfast\, Antrim\, BT71RS\, United Kingdom
CATEGORIES:Christmas Market
ATTACH;FMTTYPE=image/jpeg:https://laverys.com/wp-content/uploads/2024/11/Screenshot-2024-11-07-at-15.24.54-e1730993244438.jpg
ORGANIZER;CN="Lavery's":MAILTO:info@laverys.com
END:VEVENT
BEGIN:VEVENT
DTSTART;TZID=UTC:20241213T223000
DTEND;TZID=UTC:20241214T003000
DTSTAMP:20260425T181050
CREATED:20241210T160752Z
LAST-MODIFIED:20241210T160752Z
UID:10003537-1734129000-1734136200@laverys.com
SUMMARY:Stephen Rafferty
DESCRIPTION:Stephen Rafferty is a singer/songwriter from Newcastle\, Co.Down. Stephen is an acoustic artist\, mainly focusing on the folk genre further opening his style to a more alternative route. \nStephen’s talents saw him selected as the winner of the Youth Action Northern Ireland ‘Next Big Thing’ competition last year with my song ‘Masquerade’.
URL:https://laverys.com/event/stephen-rafferty/
LOCATION:Lavery’s\, 12-18 Bradbury Place\, Belfast\, Antrim\, BT71RS\, United Kingdom
CATEGORIES:Live at Lavery's
ATTACH;FMTTYPE=image/jpeg:https://laverys.com/wp-content/uploads/2024/12/Screenshot-2024-12-10-at-13.23.08-e1733846680926.jpg
ORGANIZER;CN="Lavery's":MAILTO:info@laverys.com
END:VEVENT
BEGIN:VEVENT
DTSTART;TZID=UTC:20241214T200000
DTEND;TZID=UTC:20241214T220000
DTSTAMP:20260425T181050
CREATED:20241210T161218Z
LAST-MODIFIED:20241210T161218Z
UID:10003538-1734206400-1734213600@laverys.com
SUMMARY:Jack Devlin
DESCRIPTION:Jack has been an unstoppable feature in Northern Ireland for several years.\nHailing from Hilltown by the Mourne Mountains\, Jack has been honing his skills as singer\, songwriter and guitarist since primary school. An extremely talented musician you must see!
URL:https://laverys.com/event/jack-devlin-3/
LOCATION:Lavery’s\, 12-18 Bradbury Place\, Belfast\, Antrim\, BT71RS\, United Kingdom
CATEGORIES:Live at Lavery's
ATTACH;FMTTYPE=image/jpeg:https://laverys.com/wp-content/uploads/2024/11/Screenshot-2024-11-06-at-17.11.11-e1730913618626.jpg
ORGANIZER;CN="Lavery's":MAILTO:info@laverys.com
END:VEVENT
BEGIN:VEVENT
DTSTART;TZID=UTC:20241214T203000
DTEND;TZID=UTC:20241214T224500
DTSTAMP:20260425T181050
CREATED:20241107T172355Z
LAST-MODIFIED:20241107T182106Z
UID:10003492-1734208200-1734216300@laverys.com
SUMMARY:Danielle Mullan & Jonathan Guitars
DESCRIPTION:Danielle is one of Belfast’s most sought after musical talents. With a uniquely talented voice coupled alongside the amazing Jonathan Guitars\, this duo is not to be missed!
URL:https://laverys.com/event/danielle-mullan-jonathan-guitars-8/
LOCATION:Lavery’s\, 12-18 Bradbury Place\, Belfast\, Antrim\, BT71RS\, United Kingdom
CATEGORIES:Christmas Market
ATTACH;FMTTYPE=image/jpeg:https://laverys.com/wp-content/uploads/2024/11/Screenshot-2024-11-05-at-17.49.05-e1730990729514.jpg
ORGANIZER;CN="Lavery's":MAILTO:info@laverys.com
END:VEVENT
BEGIN:VEVENT
DTSTART;TZID=UTC:20241214T223000
DTEND;TZID=UTC:20241215T003000
DTSTAMP:20260425T181050
CREATED:20241212T140823Z
LAST-MODIFIED:20241212T140823Z
UID:10003544-1734215400-1734222600@laverys.com
SUMMARY:The Atlantic Collective
DESCRIPTION:The Atlantic Collective is a hybrid collective of creatives & production personnel based in Ireland providing the finest Irish entertainment for a bespoke and exciting addition to your event. The Collective features award winning multi-instrumentalists\, World champion dancers\, innovative\, cross-disciplinary boundary pushing artists and experienced technical/production personnel.
URL:https://laverys.com/event/the-atlantic-collective/
LOCATION:Lavery’s\, 12-18 Bradbury Place\, Belfast\, Antrim\, BT71RS\, United Kingdom
CATEGORIES:Live at Lavery's
ATTACH;FMTTYPE=image/jpeg:https://laverys.com/wp-content/uploads/2024/12/Screenshot-2024-12-10-at-16.14.27-e1733849511916.jpg
ORGANIZER;CN="Lavery's":MAILTO:info@laverys.com
END:VEVENT
BEGIN:VEVENT
DTSTART;TZID=UTC:20241215T153000
DTEND;TZID=UTC:20241215T173000
DTSTAMP:20260425T181050
CREATED:20241107T173637Z
LAST-MODIFIED:20241107T182116Z
UID:10003493-1734276600-1734283800@laverys.com
SUMMARY:Danielle Mullan & Jonathan Guitars
DESCRIPTION:Danielle is one of Belfast’s most sought after musical talents. With a uniquely talented voice coupled alongside the amazing Jonathan Guitars\, this duo is not to be missed!
URL:https://laverys.com/event/danielle-mullan-jonathan-guitars-9/
LOCATION:Lavery’s\, 12-18 Bradbury Place\, Belfast\, Antrim\, BT71RS\, United Kingdom
CATEGORIES:Christmas Market
ATTACH;FMTTYPE=image/jpeg:https://laverys.com/wp-content/uploads/2024/11/Screenshot-2024-11-05-at-17.49.05-e1730990729514.jpg
ORGANIZER;CN="Lavery's":MAILTO:info@laverys.com
END:VEVENT
BEGIN:VEVENT
DTSTART;TZID=UTC:20241215T190000
DTEND;TZID=UTC:20241215T210000
DTSTAMP:20260425T181050
CREATED:20241126T165647Z
LAST-MODIFIED:20241126T165647Z
UID:10003525-1734289200-1734296400@laverys.com
SUMMARY:Belfast Session Guide
DESCRIPTION:Belfast’s best traditional music session. Join the Belfast Session Guide open trad sessions every Sunday in our Public Bar.
URL:https://laverys.com/event/belfast-session-guide-7/2024-12-15/
LOCATION:Lavery’s\, 12-18 Bradbury Place\, Belfast\, Antrim\, BT71RS\, United Kingdom
CATEGORIES:Live at Lavery's
ATTACH;FMTTYPE=image/jpeg:https://laverys.com/wp-content/uploads/2024/03/Paddys-Day-2024-19-e1751634419460.jpg
ORGANIZER;CN="Lavery's":MAILTO:info@laverys.com
END:VEVENT
BEGIN:VEVENT
DTSTART;TZID=UTC:20241219T203000
DTEND;TZID=UTC:20241219T224500
DTSTAMP:20260425T181050
CREATED:20241107T174807Z
LAST-MODIFIED:20241107T182116Z
UID:10003494-1734640200-1734648300@laverys.com
SUMMARY:Paul Brady & Cipasso
DESCRIPTION:Paul is an Irish traditional musician and singer/songwriter that grew up playing jigs and reels mainly on tin whistle and trad flute. Since turning 18 he has added bouzouki and guitar to his instrument range. \n\nFrom Irish trad to a mixture to suit the whole audience\, Paul’s energetic live performances will take you on a journey showcasing an exciting artist in full control of his talents.
URL:https://laverys.com/event/paul-brady-cipasso/
LOCATION:Lavery’s\, 12-18 Bradbury Place\, Belfast\, Antrim\, BT71RS\, United Kingdom
CATEGORIES:Christmas Market
ATTACH;FMTTYPE=image/jpeg:https://laverys.com/wp-content/uploads/2024/11/Screenshot-2024-11-06-at-16.53.40-e1730912326452.jpg
ORGANIZER;CN="Lavery's":MAILTO:info@laverys.com
END:VEVENT
BEGIN:VEVENT
DTSTART;TZID=UTC:20241220T180000
DTEND;TZID=UTC:20241220T200000
DTSTAMP:20260425T181050
CREATED:20241107T175231Z
LAST-MODIFIED:20241107T182116Z
UID:10003495-1734717600-1734724800@laverys.com
SUMMARY:The Real Shindig
DESCRIPTION:The Real Shindig consists of Conor Blaney\, Ciarán McGuckin\, Rachel McGarrity\, Aide McIlduff & Brian Burns. Based in Belfast\, their music has taken them across Europe\, America and even as far as Australia. \n\nThe band’s combination of diverse influences creates a powerful live set which contains everything from traditional Irish to modern contemporary music.
URL:https://laverys.com/event/the-real-shindig-7/
LOCATION:Lavery’s\, 12-18 Bradbury Place\, Belfast\, Antrim\, BT71RS\, United Kingdom
CATEGORIES:Christmas Market
ATTACH;FMTTYPE=image/jpeg:https://laverys.com/wp-content/uploads/2024/10/Screenshot-2024-10-29-at-17.01.49-e1762948265467.jpg
ORGANIZER;CN="Lavery's":MAILTO:info@laverys.com
END:VEVENT
BEGIN:VEVENT
DTSTART;TZID=UTC:20241220T203000
DTEND;TZID=UTC:20241220T223000
DTSTAMP:20260425T181050
CREATED:20241212T141705Z
LAST-MODIFIED:20241212T141705Z
UID:10003551-1734726600-1734733800@laverys.com
SUMMARY:Adh Mor
DESCRIPTION:Adh Mor is truly one of `Northern Ireland’s most dynamic 2 piece bands.\nNot stuck to one genre\, Adh Mor perform a range of songs & tunes with an Irish Trad & Folk kick.
URL:https://laverys.com/event/adh-mor-2/
LOCATION:Lavery’s\, 12-18 Bradbury Place\, Belfast\, Antrim\, BT71RS\, United Kingdom
CATEGORIES:Live at Lavery's
ATTACH;FMTTYPE=image/jpeg:https://laverys.com/wp-content/uploads/2024/10/Screenshot-2024-10-30-at-16.15.02-1-e1730915426146.jpg
ORGANIZER;CN="Lavery's":MAILTO:info@laverys.com
END:VEVENT
BEGIN:VEVENT
DTSTART;TZID=UTC:20241220T203000
DTEND;TZID=UTC:20241220T224500
DTSTAMP:20260425T181050
CREATED:20241107T175749Z
LAST-MODIFIED:20241107T182116Z
UID:10003496-1734726600-1734734700@laverys.com
SUMMARY:Danielle Mullan & Jonathan Guitars
DESCRIPTION:Danielle is one of Belfast’s most sought after musical talents. With a uniquely talented voice coupled alongside the amazing Jonathan Guitars\, this duo is not to be missed!
URL:https://laverys.com/event/danielle-mullan-jonathan-guitars-10/
LOCATION:Lavery’s\, 12-18 Bradbury Place\, Belfast\, Antrim\, BT71RS\, United Kingdom
CATEGORIES:Christmas Market
ATTACH;FMTTYPE=image/jpeg:https://laverys.com/wp-content/uploads/2024/11/Screenshot-2024-11-05-at-17.49.05-e1730990729514.jpg
ORGANIZER;CN="Lavery's":MAILTO:info@laverys.com
END:VEVENT
BEGIN:VEVENT
DTSTART;TZID=UTC:20241220T223000
DTEND;TZID=UTC:20241221T003000
DTSTAMP:20260425T181050
CREATED:20241212T143821Z
LAST-MODIFIED:20241212T151630Z
UID:10003552-1734733800-1734741000@laverys.com
SUMMARY:Cipasso
DESCRIPTION:Cipasso is a multi-genre collective of artists that have a focus on funk\, soul\, funk and rock. Headed by the ever talented John Quinn\, Cipasso’s energetic sets take you on a journey you’ll not forget.
URL:https://laverys.com/event/cipasso-2/
LOCATION:Lavery’s\, 12-18 Bradbury Place\, Belfast\, Antrim\, BT71RS\, United Kingdom
CATEGORIES:Live at Lavery's
ATTACH;FMTTYPE=image/jpeg:https://laverys.com/wp-content/uploads/2024/12/291A3855-copy-e1767708326152.jpg
ORGANIZER;CN="Lavery's":MAILTO:info@laverys.com
END:VEVENT
BEGIN:VEVENT
DTSTART;TZID=UTC:20241221T180000
DTEND;TZID=UTC:20241221T200000
DTSTAMP:20260425T181050
CREATED:20241107T180226Z
LAST-MODIFIED:20241107T182116Z
UID:10003497-1734804000-1734811200@laverys.com
SUMMARY:Belfast Groove Collective
DESCRIPTION:The Belfast Groove Collective is a carousel of musical possibilities\, offering a wide range of freedom within performance. Jamming is the key ingredient associated with the Belfast Groove Collective\, especially with their sought-after improvised jams\, which take place on the first Monday of each month in Tom’s on the first floor of Lavery’s. \n\nWell-known\, and well-respected\, throughout various avenues and scenes in and outside of Belfast\, the Belfast Groove Collective strive to work alongside passionate artists/musicians to help achieve the best quality of performances every time.
URL:https://laverys.com/event/belfast-groove-collective-5/
LOCATION:Lavery’s\, 12-18 Bradbury Place\, Belfast\, Antrim\, BT71RS\, United Kingdom
CATEGORIES:Christmas Market
ATTACH;FMTTYPE=image/jpeg:https://laverys.com/wp-content/uploads/2024/11/291A4071-Enhanced-NR-copy-e1730827298220.jpg
ORGANIZER;CN="Lavery's":MAILTO:info@laverys.com
END:VEVENT
BEGIN:VEVENT
DTSTART;TZID=UTC:20241221T203000
DTEND;TZID=UTC:20241221T223000
DTSTAMP:20260425T181050
CREATED:20241212T161831Z
LAST-MODIFIED:20241212T161831Z
UID:10003555-1734813000-1734820200@laverys.com
SUMMARY:Quartz
DESCRIPTION:Quartz has been an established 2-3 piece band in Belfast since 2018. Fronted by the incredibly talented Crystal Dawn\, Quartz are some of the city’s favourite live musicians.
URL:https://laverys.com/event/quartz-3/
LOCATION:Lavery’s\, 12-18 Bradbury Place\, Belfast\, Antrim\, BT71RS\, United Kingdom
CATEGORIES:Live at Lavery's
ATTACH;FMTTYPE=image/jpeg:https://laverys.com/wp-content/uploads/2024/12/Screenshot-2024-12-05-at-14.20.13-e1733408499511.jpg
ORGANIZER;CN="Lavery's":MAILTO:info@laverys.com
END:VEVENT
BEGIN:VEVENT
DTSTART;TZID=UTC:20241221T203000
DTEND;TZID=UTC:20241221T224500
DTSTAMP:20260425T181050
CREATED:20241107T180522Z
LAST-MODIFIED:20241107T182116Z
UID:10003498-1734813000-1734821100@laverys.com
SUMMARY:Raymie Eastwood
DESCRIPTION:Raymie has been gigging in Ireland and abroad for a number of years. Not only is he on one of the most naturally born performers you’re likely to see\, his sets combine modern\, classic and even dance hits. \n\nWith his upbeat nature and comedic twist of audience interaction\, you know it’s a party when Raymie gets behind the mic!
URL:https://laverys.com/event/raymie-eastwood-5/
LOCATION:Lavery’s\, 12-18 Bradbury Place\, Belfast\, Antrim\, BT71RS\, United Kingdom
CATEGORIES:Christmas Market
ATTACH;FMTTYPE=image/jpeg:https://laverys.com/wp-content/uploads/2024/11/Screenshot-2024-11-07-at-15.24.54-e1730993244438.jpg
ORGANIZER;CN="Lavery's":MAILTO:info@laverys.com
END:VEVENT
BEGIN:VEVENT
DTSTART;TZID=UTC:20241221T223000
DTEND;TZID=UTC:20241222T003000
DTSTAMP:20260425T181050
CREATED:20241212T162245Z
LAST-MODIFIED:20241212T162245Z
UID:10003556-1734820200-1734827400@laverys.com
SUMMARY:Jack Devlin
DESCRIPTION:Jack has been an unstoppable feature in Northern Ireland for several years.\nHailing from Hilltown by the Mourne Mountains\, Jack has been honing his skills as singer\, songwriter and guitarist since primary school. An extremely talented musician you must see!
URL:https://laverys.com/event/jack-devlin-4/
LOCATION:Lavery’s\, 12-18 Bradbury Place\, Belfast\, Antrim\, BT71RS\, United Kingdom
CATEGORIES:Live at Lavery's
ATTACH;FMTTYPE=image/jpeg:https://laverys.com/wp-content/uploads/2024/11/Screenshot-2024-11-06-at-17.11.11-e1730913618626.jpg
ORGANIZER;CN="Lavery's":MAILTO:info@laverys.com
END:VEVENT
BEGIN:VEVENT
DTSTART;TZID=UTC:20241222T190000
DTEND;TZID=UTC:20241222T210000
DTSTAMP:20260425T181050
CREATED:20241126T165647Z
LAST-MODIFIED:20241126T165647Z
UID:10003526-1734894000-1734901200@laverys.com
SUMMARY:Belfast Session Guide
DESCRIPTION:Belfast’s best traditional music session. Join the Belfast Session Guide open trad sessions every Sunday in our Public Bar.
URL:https://laverys.com/event/belfast-session-guide-7/2024-12-22/
LOCATION:Lavery’s\, 12-18 Bradbury Place\, Belfast\, Antrim\, BT71RS\, United Kingdom
CATEGORIES:Live at Lavery's
ATTACH;FMTTYPE=image/jpeg:https://laverys.com/wp-content/uploads/2024/03/Paddys-Day-2024-19-e1751634419460.jpg
ORGANIZER;CN="Lavery's":MAILTO:info@laverys.com
END:VEVENT
BEGIN:VEVENT
DTSTART;TZID=UTC:20241229T190000
DTEND;TZID=UTC:20241229T210000
DTSTAMP:20260425T181050
CREATED:20241126T165647Z
LAST-MODIFIED:20241126T165647Z
UID:10003527-1735498800-1735506000@laverys.com
SUMMARY:Belfast Session Guide
DESCRIPTION:Belfast’s best traditional music session. Join the Belfast Session Guide open trad sessions every Sunday in our Public Bar.
URL:https://laverys.com/event/belfast-session-guide-7/2024-12-29/
LOCATION:Lavery’s\, 12-18 Bradbury Place\, Belfast\, Antrim\, BT71RS\, United Kingdom
CATEGORIES:Live at Lavery's
ATTACH;FMTTYPE=image/jpeg:https://laverys.com/wp-content/uploads/2024/03/Paddys-Day-2024-19-e1751634419460.jpg
ORGANIZER;CN="Lavery's":MAILTO:info@laverys.com
END:VEVENT
BEGIN:VEVENT
DTSTART;TZID=UTC:20241231T220000
DTEND;TZID=UTC:20250101T020000
DTSTAMP:20260425T181050
CREATED:20241217T121904Z
LAST-MODIFIED:20241221T045040Z
UID:10003565-1735682400-1735696800@laverys.com
SUMMARY:New Years Eve
DESCRIPTION:New Years Eve  \nAwaaaay weee go!\n\nOur biggest party of the year is right around the corner and we’re ending 2024 off with our residents and local legends \n\nIt’s a full venue mashup with the Belfast Groove Collective\, DJ Time of the Month\, DJ Randy Lover\, Caoimhe\, Haze and Faux DJs \n\n\nWe’ve had some fun this year and we’re looking forward to celebrating it with you all \n\nTickets will go quick so don’t miss out \n\n Disclaimer our tickets scan once\, screenshots will not work 
URL:https://laverys.com/event/new-years-eve/
LOCATION:Lavery’s\, 12-18 Bradbury Place\, Belfast\, Antrim\, BT71RS\, United Kingdom
CATEGORIES:DJ,Live at Lavery's
ATTACH;FMTTYPE=image/jpeg:https://laverys.com/wp-content/uploads/2024/12/IMG_3512-scaled.jpg
ORGANIZER;CN="Lavery's":MAILTO:info@laverys.com
END:VEVENT
BEGIN:VEVENT
DTSTART;TZID=UTC:20250110T213000
DTEND;TZID=UTC:20250111T003000
DTSTAMP:20260425T181050
CREATED:20250108T134923Z
LAST-MODIFIED:20250108T135032Z
UID:10003574-1736544600-1736555400@laverys.com
SUMMARY:Peter McConville
DESCRIPTION:Peter is without doubt one of the region’s most talented and sought after musicians. 1/3 of Belfast band ‘Pint Of Plain’\, Peter has also established himself as a solo singer/songwriter\, session bass player and guitarist.
URL:https://laverys.com/event/peter-mcconville-2/
LOCATION:Lavery’s\, 12-18 Bradbury Place\, Belfast\, Antrim\, BT71RS\, United Kingdom
CATEGORIES:Live at Lavery's
ATTACH;FMTTYPE=image/jpeg:https://laverys.com/wp-content/uploads/2024/11/Screenshot-2024-11-06-at-15.42.03-e1730907850207.jpg
ORGANIZER;CN="Lavery's":MAILTO:info@laverys.com
END:VEVENT
BEGIN:VEVENT
DTSTART;TZID=UTC:20250117T213000
DTEND;TZID=UTC:20250118T003000
DTSTAMP:20260425T181050
CREATED:20250116T154919Z
LAST-MODIFIED:20250116T172023Z
UID:10003590-1737149400-1737160200@laverys.com
SUMMARY:Michael Kerr
DESCRIPTION:Michael Kerr is a singer/songwriter from Belfast. Having always written songs as a past-time and playing in several bands he has now decided to pursue a solo career. Influenced by the likes of Lou Reed\, Van Morrison\, Cat Stevens\, Paul Simon\, John Martin\, Tom Petty and the Heartbreakers\, his songwriting has evolved to form melody driven songs on a foundation of swelling guitars and heartfelt lyrics. A prolific songwriter\, Michael is now truly starting to establish his own sound.
URL:https://laverys.com/event/michael-kerr-2/
LOCATION:Lavery’s\, 12-18 Bradbury Place\, Belfast\, Antrim\, BT71RS\, United Kingdom
CATEGORIES:Live at Lavery's
ATTACH;FMTTYPE=image/jpeg:https://laverys.com/wp-content/uploads/2025/01/Screenshot-2025-01-16-at-15.28.06-e1737047985771.jpg
ORGANIZER;CN="Lavery's":MAILTO:info@laverys.com
END:VEVENT
BEGIN:VEVENT
DTSTART;TZID=UTC:20250125T213000
DTEND;TZID=UTC:20250126T003000
DTSTAMP:20260425T181050
CREATED:20250124T172539Z
LAST-MODIFIED:20250124T172539Z
UID:10003675-1737840600-1737851400@laverys.com
SUMMARY:The Real Shindig
DESCRIPTION:The Real Shindig consists of Conor Blaney\, Ciarán McGuckin\, Rachel McGarrity\, Aide McIlduff & Brian Burns. Based in Belfast\, their music has taken them across Europe\, America and even as far as Australia. \n\nThe band’s combination of diverse influences creates a powerful live set which contains everything from traditional Irish to modern contemporary music.
URL:https://laverys.com/event/the-real-shindig-8/2025-01-25/
LOCATION:Lavery’s\, 12-18 Bradbury Place\, Belfast\, Antrim\, BT71RS\, United Kingdom
CATEGORIES:Live at Lavery's
ATTACH;FMTTYPE=image/jpeg:https://laverys.com/wp-content/uploads/2024/10/Screenshot-2024-10-29-at-17.01.49-e1762948265467.jpg
ORGANIZER;CN="Lavery's":MAILTO:info@laverys.com
END:VEVENT
BEGIN:VEVENT
DTSTART;TZID=UTC:20250131T213000
DTEND;TZID=UTC:20250201T003000
DTSTAMP:20260425T181050
CREATED:20250127T135945Z
LAST-MODIFIED:20250127T135945Z
UID:10003691-1738359000-1738369800@laverys.com
SUMMARY:The City
DESCRIPTION:The City have been brining their upbeat\, high energy sets to bars and functions in Belfast for a number of years.  Scott and Ricky are very experienced in catering for all types of tastes and keep the dance floor full!
URL:https://laverys.com/event/the-city-6/
LOCATION:Lavery’s\, 12-18 Bradbury Place\, Belfast\, Antrim\, BT71RS\, United Kingdom
CATEGORIES:Live at Lavery's
ATTACH;FMTTYPE=image/jpeg:https://laverys.com/wp-content/uploads/2024/10/Screenshot-2024-10-03-at-15.07.33-e1730994996876.jpg
ORGANIZER;CN="Lavery's":MAILTO:info@laverys.com
END:VEVENT
BEGIN:VEVENT
DTSTART;TZID=UTC:20250201T213000
DTEND;TZID=UTC:20250202T003000
DTSTAMP:20260425T181050
CREATED:20250127T140503Z
LAST-MODIFIED:20250127T140503Z
UID:10003692-1738445400-1738456200@laverys.com
SUMMARY:Conor Scott
DESCRIPTION:He’s got red hair and plays the guitar – no\, it’s not Ed Sheeran but he’s just as good. \nFormer finalist on The Voice\, Conor’s talents are infamous in Belfast and beyond.
URL:https://laverys.com/event/conor-scott-3/
LOCATION:Lavery’s\, 12-18 Bradbury Place\, Belfast\, Antrim\, BT71RS\, United Kingdom
CATEGORIES:Live at Lavery's
ATTACH;FMTTYPE=image/jpeg:https://laverys.com/wp-content/uploads/2024/11/Screenshot-2024-11-07-at-14.54.11-e1730991346153.jpg
ORGANIZER;CN="Lavery's":MAILTO:info@laverys.com
END:VEVENT
BEGIN:VEVENT
DTSTART;TZID=UTC:20250207T213000
DTEND;TZID=UTC:20250208T003000
DTSTAMP:20260425T181050
CREATED:20250124T173712Z
LAST-MODIFIED:20250124T173712Z
UID:10003682-1738963800-1738974600@laverys.com
SUMMARY:Stick With It
DESCRIPTION:As the lads put it..”We’ll be playing some songs you know and some songs you don’t know\, but that’s all part of the Stick With It experience”. Whatever song it is you hear\, it’s guaranteed to have you up dancing!
URL:https://laverys.com/event/stick-with-it-4/2025-02-07/
LOCATION:Lavery’s\, 12-18 Bradbury Place\, Belfast\, Antrim\, BT71RS\, United Kingdom
CATEGORIES:Live at Lavery's
ATTACH;FMTTYPE=image/jpeg:https://laverys.com/wp-content/uploads/2024/11/Screenshot-2024-11-26-at-14.30.47-e1732631573267.jpg
ORGANIZER;CN="Lavery's":MAILTO:info@laverys.com
END:VEVENT
BEGIN:VEVENT
DTSTART;TZID=UTC:20250208T213000
DTEND;TZID=UTC:20250209T003000
DTSTAMP:20260425T181050
CREATED:20250127T162332Z
LAST-MODIFIED:20250127T162332Z
UID:10003693-1739050200-1739061000@laverys.com
SUMMARY:Cipasso
DESCRIPTION:Cipasso is a multi-genre collective of artists that have a focus on funk\, soul\, funk and rock. Headed by the ever talented John Quinn\, Cipasso’s energetic sets take you on a journey you’ll not forget.
URL:https://laverys.com/event/cipasso-4/2025-02-08/
LOCATION:Lavery’s\, 12-18 Bradbury Place\, Belfast\, Antrim\, BT71RS\, United Kingdom
CATEGORIES:Live at Lavery's
ATTACH;FMTTYPE=image/jpeg:https://laverys.com/wp-content/uploads/2024/12/291A3855-copy-e1767708326152.jpg
ORGANIZER;CN="Lavery's":MAILTO:info@laverys.com
END:VEVENT
BEGIN:VEVENT
DTSTART;TZID=UTC:20250209T190000
DTEND;TZID=UTC:20250209T210000
DTSTAMP:20260425T181050
CREATED:20250131T130113Z
LAST-MODIFIED:20250131T130113Z
UID:10003737-1739127600-1739134800@laverys.com
SUMMARY:Belfast Session Guide
DESCRIPTION:Belfast’s best traditional music session. Join the Belfast Session Guide open trad sessions every Sunday in our Public Bar.
URL:https://laverys.com/event/belfast-session-guide-8/2025-02-09/
LOCATION:Lavery’s\, 12-18 Bradbury Place\, Belfast\, Antrim\, BT71RS\, United Kingdom
CATEGORIES:Live at Lavery's
ATTACH;FMTTYPE=image/jpeg:https://laverys.com/wp-content/uploads/2024/03/Paddys-Day-2024-19-e1751634419460.jpg
ORGANIZER;CN="Lavery's":MAILTO:info@laverys.com
END:VEVENT
BEGIN:VEVENT
DTSTART;TZID=UTC:20250214T213000
DTEND;TZID=UTC:20250215T003000
DTSTAMP:20260425T181050
CREATED:20250124T172539Z
LAST-MODIFIED:20250124T172539Z
UID:10003676-1739568600-1739579400@laverys.com
SUMMARY:The Real Shindig
DESCRIPTION:The Real Shindig consists of Conor Blaney\, Ciarán McGuckin\, Rachel McGarrity\, Aide McIlduff & Brian Burns. Based in Belfast\, their music has taken them across Europe\, America and even as far as Australia. \n\nThe band’s combination of diverse influences creates a powerful live set which contains everything from traditional Irish to modern contemporary music.
URL:https://laverys.com/event/the-real-shindig-8/2025-02-14/
LOCATION:Lavery’s\, 12-18 Bradbury Place\, Belfast\, Antrim\, BT71RS\, United Kingdom
CATEGORIES:Live at Lavery's
ATTACH;FMTTYPE=image/jpeg:https://laverys.com/wp-content/uploads/2024/10/Screenshot-2024-10-29-at-17.01.49-e1762948265467.jpg
ORGANIZER;CN="Lavery's":MAILTO:info@laverys.com
END:VEVENT
BEGIN:VEVENT
DTSTART;TZID=UTC:20250216T190000
DTEND;TZID=UTC:20250216T210000
DTSTAMP:20260425T181050
CREATED:20250131T130113Z
LAST-MODIFIED:20250131T130113Z
UID:10003738-1739732400-1739739600@laverys.com
SUMMARY:Belfast Session Guide
DESCRIPTION:Belfast’s best traditional music session. Join the Belfast Session Guide open trad sessions every Sunday in our Public Bar.
URL:https://laverys.com/event/belfast-session-guide-8/2025-02-16/
LOCATION:Lavery’s\, 12-18 Bradbury Place\, Belfast\, Antrim\, BT71RS\, United Kingdom
CATEGORIES:Live at Lavery's
ATTACH;FMTTYPE=image/jpeg:https://laverys.com/wp-content/uploads/2024/03/Paddys-Day-2024-19-e1751634419460.jpg
ORGANIZER;CN="Lavery's":MAILTO:info@laverys.com
END:VEVENT
END:VCALENDAR