BEGIN:VCALENDAR
VERSION:2.0
PRODID:-//Lavery&#039;s - ECPv6.15.18//NONSGML v1.0//EN
CALSCALE:GREGORIAN
METHOD:PUBLISH
X-ORIGINAL-URL:https://laverys.com
X-WR-CALDESC:Events for Lavery&#039;s
REFRESH-INTERVAL;VALUE=DURATION:PT1H
X-Robots-Tag:noindex
X-PUBLISHED-TTL:PT1H
BEGIN:VTIMEZONE
TZID:UTC
BEGIN:STANDARD
TZOFFSETFROM:+0000
TZOFFSETTO:+0000
TZNAME:UTC
DTSTART:20240101T000000
END:STANDARD
END:VTIMEZONE
BEGIN:VEVENT
DTSTART;TZID=UTC:20250723T193000
DTEND;TZID=UTC:20250723T233000
DTSTAMP:20260420T090002
CREATED:20250609T134254Z
LAST-MODIFIED:20250609T134257Z
UID:10000269-1753299000-1753313400@laverys.com
SUMMARY:Lavery's Comedy Club
DESCRIPTION:
URL:https://laverys.com/event/wednesday-23rd-july-2025/
LOCATION:Tom’s\, 12-18 Bradbury Place\, Belfast\, Antrim\, BT71RS\, United Kingdom
CATEGORIES:Lavery's Comedy Club
ATTACH;FMTTYPE=image/png:https://laverys.com/wp-content/uploads/2023/02/Facebook-Event2-1.png
ORGANIZER;CN="Both Barrels Comedy":MAILTO:comedy@laverys.com
END:VEVENT
BEGIN:VEVENT
DTSTART;TZID=UTC:20250723T210000
DTEND;TZID=UTC:20250724T000000
DTSTAMP:20260420T090002
CREATED:20250611T091601Z
LAST-MODIFIED:20250611T091601Z
UID:10003848-1753304400-1753315200@laverys.com
SUMMARY:Alex Davenport
DESCRIPTION:Even at his young age Alex Davenport has been on the scene as DJ and producer throwing parties with the finest underground house music for a number of years! \nFounder of Jungle Book Legion DJ Collective and Label based out of Belfast. Alex’s experience comes in handy to set the mood for a wide range of settings\, be it in clubs or chilled our beer gardens.
URL:https://laverys.com/event/alex-davenport/2025-07-23/
LOCATION:Lavery’s\, 12-18 Bradbury Place\, Belfast\, Antrim\, BT71RS\, United Kingdom
CATEGORIES:DJ
ATTACH;FMTTYPE=image/jpeg:https://laverys.com/wp-content/uploads/2025/06/Screenshot-2025-06-11-at-10.09.43-e1749633205795.jpg
ORGANIZER;CN="Lavery's":MAILTO:info@laverys.com
END:VEVENT
BEGIN:VEVENT
DTSTART;TZID=UTC:20250724T193000
DTEND;TZID=UTC:20250724T233000
DTSTAMP:20260420T090002
CREATED:20250609T134339Z
LAST-MODIFIED:20250609T134343Z
UID:10000270-1753385400-1753399800@laverys.com
SUMMARY:Lavery's Comedy Club
DESCRIPTION:
URL:https://laverys.com/event/thursday-24th-july-2025/
LOCATION:Tom’s\, 12-18 Bradbury Place\, Belfast\, Antrim\, BT71RS\, United Kingdom
CATEGORIES:Lavery's Comedy Club
ATTACH;FMTTYPE=image/png:https://laverys.com/wp-content/uploads/2023/02/Facebook-Event2-1.png
ORGANIZER;CN="Both Barrels Comedy":MAILTO:comedy@laverys.com
END:VEVENT
BEGIN:VEVENT
DTSTART;TZID=UTC:20250726T100000
DTEND;TZID=UTC:20250726T123000
DTSTAMP:20260420T090002
CREATED:20250702T173204Z
LAST-MODIFIED:20250702T173309Z
UID:10003857-1753524000-1753533000@laverys.com
SUMMARY:The Lions Tour - 2nd Test
DESCRIPTION:Join us for the 2nd Test!
URL:https://laverys.com/event/the-lions-tour-2nd-test/
LOCATION:Lavery’s\, 12-18 Bradbury Place\, Belfast\, Antrim\, BT71RS\, United Kingdom
CATEGORIES:Lions
ATTACH;FMTTYPE=image/jpeg:https://laverys.com/wp-content/uploads/2025/07/preview1.jpg
ORGANIZER;CN="Lavery's":MAILTO:info@laverys.com
END:VEVENT
BEGIN:VEVENT
DTSTART;TZID=UTC:20250726T220000
DTEND;TZID=UTC:20250726T220000
DTSTAMP:20260420T090002
CREATED:20250630T143143Z
LAST-MODIFIED:20250630T144018Z
UID:10003855-1753567200-1753567200@laverys.com
SUMMARY:Mince 013 X Clipped - Belfast Pride '25
DESCRIPTION:Belfast Pride is always one to remember and this year will be no different. The Mince collective are collaborating with Clipped\, a local DJ collective throwing regular parties across the city. Mince resident DJs Thom & Chanty with be joined by Weht\, Princess Glitoris\, Sophie Shaw\, Caolan Patrick & Matthew Bennet for what is going to be an absolutely banging night. \nThe music at Mince takes inspiration from the underground queer discos of the 70s and 80s with a modern twist. Think Paris is burning meets Berghain. \nThe night starts with easing in the crowd in with some classics intertwined with pumping 90s house.As the night progresses things will gradually get deeper and heavier.Mid way through the night tracks will filter in at the heavier end of italo/disco/house with full bodied synth lines thumping kicks and vocal riffs/chops. \nThe final build of energy will leads into vibrant techno/trance warehouse vibe encouraging people to ‘mince’ around and dance the night away
URL:https://laverys.com/event/mince-013-clipped/
LOCATION:Lavery’s\, 12-18 Bradbury Place\, Belfast\, Antrim\, BT71RS\, United Kingdom
CATEGORIES:DJ
ATTACH;FMTTYPE=image/jpeg:https://laverys.com/wp-content/uploads/2025/06/2049390_057af59a_mince-013-x-clipped-belfast-pride-25_eflyer.jpg
ORGANIZER;CN="Lavery's":MAILTO:info@laverys.com
END:VEVENT
END:VCALENDAR