BEGIN:VCALENDAR
VERSION:2.0
PRODID:-//Lavery&#039;s - ECPv6.15.18//NONSGML v1.0//EN
CALSCALE:GREGORIAN
METHOD:PUBLISH
X-ORIGINAL-URL:https://laverys.com
X-WR-CALDESC:Events for Lavery&#039;s
REFRESH-INTERVAL;VALUE=DURATION:PT1H
X-Robots-Tag:noindex
X-PUBLISHED-TTL:PT1H
BEGIN:VTIMEZONE
TZID:UTC
BEGIN:STANDARD
TZOFFSETFROM:+0000
TZOFFSETTO:+0000
TZNAME:UTC
DTSTART:20240101T000000
END:STANDARD
END:VTIMEZONE
BEGIN:VEVENT
DTSTART;TZID=UTC:20250924T193000
DTEND;TZID=UTC:20250924T233000
DTSTAMP:20260420T005610
CREATED:20250827T154338Z
LAST-MODIFIED:20250828T152637Z
UID:10000287-1758742200-1758756600@laverys.com
SUMMARY:Lavery's Comedy Club - Wednesday 24th September
DESCRIPTION:Colin Geddis has curated one of the funniest comedy nights Belfast has to offer. He transforms our middle floor into an intimate\, side-splittingly funny evening with guaranteed laughs; get down early to avoid sitting in the front row.
URL:https://laverys.com/event/wednesday-24th-sep-2025/
LOCATION:Tom’s\, 12-18 Bradbury Place\, Belfast\, Antrim\, BT71RS\, United Kingdom
CATEGORIES:Lavery's Comedy Club
ATTACH;FMTTYPE=image/png:https://laverys.com/wp-content/uploads/2023/02/Facebook-Event2-1.png
ORGANIZER;CN="Both Barrels Comedy":MAILTO:comedy@laverys.com
END:VEVENT
BEGIN:VEVENT
DTSTART;TZID=UTC:20250924T210000
DTEND;TZID=UTC:20250925T001500
DTSTAMP:20260420T005610
CREATED:20250902T095614Z
LAST-MODIFIED:20250902T095614Z
UID:10003906-1758747600-1758759300@laverys.com
SUMMARY:Alex Davenport
DESCRIPTION:Even at his young age Alex Davenport has been on the scene as DJ and producer throwing parties with the finest underground house music for a number of years!\nFounder of Jungle Book Legion DJ Collective and Label based out of Belfast. Alex’s experience comes in handy to set the mood for a wide range of settings\, be it in clubs or chilled our beer gardens.
URL:https://laverys.com/event/alex-davenport-3/2025-09-24/
LOCATION:Lavery’s\, 12-18 Bradbury Place\, Belfast\, Antrim\, BT71RS\, United Kingdom
CATEGORIES:DJ
ATTACH;FMTTYPE=image/jpeg:https://laverys.com/wp-content/uploads/2025/06/Screenshot-2025-06-11-at-10.09.43-e1749633205795.jpg
ORGANIZER;CN="Lavery's":MAILTO:info@laverys.com
END:VEVENT
BEGIN:VEVENT
DTSTART;TZID=UTC:20250925T193000
DTEND;TZID=UTC:20250925T233000
DTSTAMP:20260420T005610
CREATED:20250828T140141Z
LAST-MODIFIED:20250828T140316Z
UID:10000288-1758828600-1758843000@laverys.com
SUMMARY:Lavery's Comedy Club - Thursday 25th September
DESCRIPTION:Colin Geddis has curated one of the funniest comedy nights Belfast has to offer. He transforms our middle floor into an intimate\, side-splittingly funny evening with guaranteed laughs; get down early to avoid sitting in the front row.
URL:https://laverys.com/event/thursday-25th-sep-2025/
LOCATION:Tom’s\, 12-18 Bradbury Place\, Belfast\, Antrim\, BT71RS\, United Kingdom
CATEGORIES:Lavery's Comedy Club
ATTACH;FMTTYPE=image/png:https://laverys.com/wp-content/uploads/2023/02/Facebook-Event2-1.png
ORGANIZER;CN="Both Barrels Comedy":MAILTO:comedy@laverys.com
END:VEVENT
BEGIN:VEVENT
DTSTART;TZID=UTC:20250925T210000
DTEND;TZID=UTC:20250926T001500
DTSTAMP:20260420T005610
CREATED:20250902T101752Z
LAST-MODIFIED:20250902T101752Z
UID:10003916-1758834000-1758845700@laverys.com
SUMMARY:Rebecca Nicell
DESCRIPTION:Rebecca has developed her own unique sound within our residents. Regardless of genre\, tempo\, style or release date\, Becca will get you moving!
URL:https://laverys.com/event/rebecca-nicell-14/2025-09-25/
LOCATION:Lavery’s\, 12-18 Bradbury Place\, Belfast\, Antrim\, BT71RS\, United Kingdom
CATEGORIES:DJ
ATTACH;FMTTYPE=image/jpeg:https://laverys.com/wp-content/uploads/2025/05/Screenshot-2025-05-21-at-15.42.06-e1748271641142.jpg
ORGANIZER;CN="Lavery's":MAILTO:info@laverys.com
END:VEVENT
BEGIN:VEVENT
DTSTART;TZID=UTC:20250926T200500
DTEND;TZID=UTC:20250926T221000
DTSTAMP:20260420T005610
CREATED:20250819T145617Z
LAST-MODIFIED:20250819T145617Z
UID:10003872-1758917100-1758924600@laverys.com
SUMMARY:Ulster vs Dragons (26/09/25)
DESCRIPTION:Join us for the first game of the season!
URL:https://laverys.com/event/ulster-vs-dragons-25/
LOCATION:Ravenhill Stadium\, 134 Mount Merrion Avenue\, Belfast\, Antrim\, BT6 0FT\, United Kingdom
CATEGORIES:Ulster Rugby Ticket & Transport Package
ATTACH;FMTTYPE=image/png:https://laverys.com/wp-content/uploads/2025/08/dragons.png
ORGANIZER;CN="Lavery's":MAILTO:info@laverys.com
END:VEVENT
BEGIN:VEVENT
DTSTART;TZID=UTC:20250926T210000
DTEND;TZID=UTC:20250927T011500
DTSTAMP:20260420T005610
CREATED:20250902T134018Z
LAST-MODIFIED:20250902T134018Z
UID:10003940-1758920400-1758935700@laverys.com
SUMMARY:Venus Dupree
DESCRIPTION:Venus Dupree is a Belfast based DJ and co-producer of Gods Waiting Room. Widely regarded as one of the city’s best disco and house DJs with queer roots on the modern dance floor.
URL:https://laverys.com/event/venus-dupree/
LOCATION:Lavery’s\, 12-18 Bradbury Place\, Belfast\, Antrim\, BT71RS\, United Kingdom
CATEGORIES:DJ
ATTACH;FMTTYPE=image/jpeg:https://laverys.com/wp-content/uploads/2025/09/Screenshot-2025-09-02-at-14.35.39-e1756820299947.jpg
ORGANIZER;CN="Lavery's":MAILTO:info@laverys.com
END:VEVENT
BEGIN:VEVENT
DTSTART;TZID=UTC:20250926T210000
DTEND;TZID=UTC:20250927T011500
DTSTAMP:20260420T005610
CREATED:20250902T141841Z
LAST-MODIFIED:20250902T141841Z
UID:10003949-1758920400-1758935700@laverys.com
SUMMARY:Stevie Dougal
DESCRIPTION:Stevie becomes every venues favourite DJ instantaneously. His sets are high energy and adaptable to any setting.
URL:https://laverys.com/event/stevie-dougal-6/2025-09-26/
LOCATION:Lavery’s\, 12-18 Bradbury Place\, Belfast\, Antrim\, BT71RS\, United Kingdom
CATEGORIES:DJ
ATTACH;FMTTYPE=image/jpeg:https://laverys.com/wp-content/uploads/2025/05/Screenshot-2025-06-09-at-15.31.29-e1767888816936.jpg
ORGANIZER;CN="Lavery's":MAILTO:info@laverys.com
END:VEVENT
BEGIN:VEVENT
DTSTART;TZID=UTC:20250927T210000
DTEND;TZID=UTC:20250928T011500
DTSTAMP:20260420T005610
CREATED:20250902T105009Z
LAST-MODIFIED:20250902T105009Z
UID:10003925-1759006800-1759022100@laverys.com
SUMMARY:Scott Lowry
DESCRIPTION:Eclectic selectors and rowdy party starter\, Scott is one of Lavery’s longest standing resident DJs and for good reason. One of the most taleneted DJs in the Belfast scene\, Scott’s knowledge of music is as deep as the Marinas Trench.
URL:https://laverys.com/event/scott-lowry-5/2025-09-27/
LOCATION:Lavery’s\, 12-18 Bradbury Place\, Belfast\, Antrim\, BT71RS\, United Kingdom
CATEGORIES:DJ
ATTACH;FMTTYPE=image/jpeg:https://laverys.com/wp-content/uploads/2025/06/Screenshot-2025-06-11-at-13.13.00.jpg
ORGANIZER;CN="Lavery's":MAILTO:info@laverys.com
END:VEVENT
BEGIN:VEVENT
DTSTART;TZID=UTC:20250927T210000
DTEND;TZID=UTC:20250928T011500
DTSTAMP:20260420T005610
CREATED:20250902T142715Z
LAST-MODIFIED:20250902T142715Z
UID:10003951-1759006800-1759022100@laverys.com
SUMMARY:Mark Johnston
DESCRIPTION:Mark has been a resident for more than 10 years. One half of the infamous Faux\, Mark has been one of the most influential DJs to grace our decks\, shaping the sound and atmosphere that people now associate with Lavery’s and The Woodworkers.
URL:https://laverys.com/event/mark-johnston-5/2025-09-27/
LOCATION:Lavery’s\, 12-18 Bradbury Place\, Belfast\, Antrim\, BT71RS\, United Kingdom
CATEGORIES:DJ
ATTACH;FMTTYPE=image/jpeg:https://laverys.com/wp-content/uploads/2025/05/Screenshot-2025-05-27-at-13.28.19-e1748349516952.jpg
ORGANIZER;CN="Lavery's":MAILTO:info@laverys.com
END:VEVENT
BEGIN:VEVENT
DTSTART;TZID=UTC:20250928T190000
DTEND;TZID=UTC:20250928T210000
DTSTAMP:20260420T005610
CREATED:20250902T143633Z
LAST-MODIFIED:20250902T143633Z
UID:10003957-1759086000-1759093200@laverys.com
SUMMARY:Belfast Session Guide
DESCRIPTION:Belfast’s best traditional music session. Join the Belfast Session Guide open trad sessions every Sunday in our Public Bar.
URL:https://laverys.com/event/belfast-session-guide-11/2025-09-28/
LOCATION:Lavery’s\, 12-18 Bradbury Place\, Belfast\, Antrim\, BT71RS\, United Kingdom
CATEGORIES:Live at Lavery's
ATTACH;FMTTYPE=image/jpeg:https://laverys.com/wp-content/uploads/2024/03/Paddys-Day-2024-19-e1751634419460.jpg
ORGANIZER;CN="Lavery's":MAILTO:info@laverys.com
END:VEVENT
END:VCALENDAR