BEGIN:VCALENDAR
VERSION:2.0
PRODID:-//Lavery&#039;s - ECPv6.15.18//NONSGML v1.0//EN
CALSCALE:GREGORIAN
METHOD:PUBLISH
X-ORIGINAL-URL:https://laverys.com
X-WR-CALDESC:Events for Lavery&#039;s
REFRESH-INTERVAL;VALUE=DURATION:PT1H
X-Robots-Tag:noindex
X-PUBLISHED-TTL:PT1H
BEGIN:VTIMEZONE
TZID:UTC
BEGIN:STANDARD
TZOFFSETFROM:+0000
TZOFFSETTO:+0000
TZNAME:UTC
DTSTART:20240101T000000
END:STANDARD
END:VTIMEZONE
BEGIN:VEVENT
DTSTART;TZID=UTC:20250929T140000
DTEND;TZID=UTC:20250930T000000
DTSTAMP:20260421T031607
CREATED:20250916T120925Z
LAST-MODIFIED:20250916T120925Z
UID:10003968-1759154400-1759190400@laverys.com
SUMMARY:Freshers Festival
DESCRIPTION:🪩 Freshers Festival 🪩 \n29th September we’re hosting our Freshers Festival to give you a taste of Belfast’s best sounds\, local artists\, retailers\, our own merch giveaways and student discounted food & drink 👚🎨🍻🍕 \nWe also have the help of the amazing QUB\, UU\, and Stran Uni societies who will be leading the fun and games around the building with DJ workshops\, open live jams\, pool & shuffleboard competitions\, poker\, drunken chess\, F1 simulators\, karaoke\, pop up markets & more 👀 \nRunning from 2pm throughout the day\, see you all there!
URL:https://laverys.com/event/freshers-festival/
LOCATION:Lavery’s\, 12-18 Bradbury Place\, Belfast\, Antrim\, BT71RS\, United Kingdom
ATTACH;FMTTYPE=image/jpeg:https://laverys.com/wp-content/uploads/2025/09/INSTA-POST-Laverys-Freshers-scaled.jpg
ORGANIZER;CN="Lavery's":MAILTO:info@laverys.com
END:VEVENT
BEGIN:VEVENT
DTSTART;TZID=UTC:20251001T193000
DTEND;TZID=UTC:20251001T233000
DTSTAMP:20260421T031607
CREATED:20250828T140539Z
LAST-MODIFIED:20250828T140548Z
UID:10000289-1759347000-1759361400@laverys.com
SUMMARY:Lavery's Comedy Club - 1st October 2025
DESCRIPTION:Colin Geddis has curated one of the funniest comedy nights Belfast has to offer. He transforms our middle floor into an intimate\, side-splittingly funny evening with guaranteed laughs; get down early to avoid sitting in the front row.
URL:https://laverys.com/event/wednesday-1st-oct-2025/
LOCATION:Tom’s\, 12-18 Bradbury Place\, Belfast\, Antrim\, BT71RS\, United Kingdom
CATEGORIES:Lavery's Comedy Club
ATTACH;FMTTYPE=image/png:https://laverys.com/wp-content/uploads/2023/02/Facebook-Event2-1.png
ORGANIZER;CN="Both Barrels Comedy":MAILTO:comedy@laverys.com
END:VEVENT
BEGIN:VEVENT
DTSTART;TZID=UTC:20251001T210000
DTEND;TZID=UTC:20251002T001500
DTSTAMP:20260421T031607
CREATED:20250902T095614Z
LAST-MODIFIED:20250902T095614Z
UID:10003907-1759352400-1759364100@laverys.com
SUMMARY:Alex Davenport
DESCRIPTION:Even at his young age Alex Davenport has been on the scene as DJ and producer throwing parties with the finest underground house music for a number of years!\nFounder of Jungle Book Legion DJ Collective and Label based out of Belfast. Alex’s experience comes in handy to set the mood for a wide range of settings\, be it in clubs or chilled our beer gardens.
URL:https://laverys.com/event/alex-davenport-3/2025-10-01/
LOCATION:Lavery’s\, 12-18 Bradbury Place\, Belfast\, Antrim\, BT71RS\, United Kingdom
CATEGORIES:DJ
ATTACH;FMTTYPE=image/jpeg:https://laverys.com/wp-content/uploads/2025/06/Screenshot-2025-06-11-at-10.09.43-e1749633205795.jpg
ORGANIZER;CN="Lavery's":MAILTO:info@laverys.com
END:VEVENT
BEGIN:VEVENT
DTSTART;TZID=UTC:20251002T193000
DTEND;TZID=UTC:20251002T233000
DTSTAMP:20260421T031607
CREATED:20250828T140742Z
LAST-MODIFIED:20250828T140751Z
UID:10000290-1759433400-1759447800@laverys.com
SUMMARY:Lavery's Comedy Club - Thursday 2nd October
DESCRIPTION:Colin Geddis has curated one of the funniest comedy nights Belfast has to offer. He transforms our middle floor into an intimate\, side-splittingly funny evening with guaranteed laughs; get down early to avoid sitting in the front row.
URL:https://laverys.com/event/thursday-2nd-oct-2025/
LOCATION:Tom’s\, 12-18 Bradbury Place\, Belfast\, Antrim\, BT71RS\, United Kingdom
CATEGORIES:Lavery's Comedy Club
ATTACH;FMTTYPE=image/png:https://laverys.com/wp-content/uploads/2023/02/Facebook-Event2-1.png
ORGANIZER;CN="Both Barrels Comedy":MAILTO:comedy@laverys.com
END:VEVENT
BEGIN:VEVENT
DTSTART;TZID=UTC:20251002T210000
DTEND;TZID=UTC:20251003T001500
DTSTAMP:20260421T031607
CREATED:20250902T101752Z
LAST-MODIFIED:20250902T101752Z
UID:10003917-1759438800-1759450500@laverys.com
SUMMARY:Rebecca Nicell
DESCRIPTION:Rebecca has developed her own unique sound within our residents. Regardless of genre\, tempo\, style or release date\, Becca will get you moving!
URL:https://laverys.com/event/rebecca-nicell-14/2025-10-02/
LOCATION:Lavery’s\, 12-18 Bradbury Place\, Belfast\, Antrim\, BT71RS\, United Kingdom
CATEGORIES:DJ
ATTACH;FMTTYPE=image/jpeg:https://laverys.com/wp-content/uploads/2025/05/Screenshot-2025-05-21-at-15.42.06-e1748271641142.jpg
ORGANIZER;CN="Lavery's":MAILTO:info@laverys.com
END:VEVENT
BEGIN:VEVENT
DTSTART;TZID=UTC:20251003T210000
DTEND;TZID=UTC:20251004T011500
DTSTAMP:20260421T031607
CREATED:20250902T103611Z
LAST-MODIFIED:20250902T103611Z
UID:10003923-1759525200-1759540500@laverys.com
SUMMARY:Phil Lucas
DESCRIPTION:Phil Lucas is one half of Twitch Belfast\, one of the city’s longest-running and most influential independent electronic music nights. He’s been involved in AVA Festival since its start 9 years ago and is a huge supporter of other local DJ talents. Twitch has been on the go for almost 18 years drawing big names like Ben UFO\, Joy Orbison\, Shanti Celeste\, Erol Alkan and Orbital. We feel very fortunate to have Phil has a resident DJ.
URL:https://laverys.com/event/phil-lucas-9/2025-10-03/
LOCATION:Lavery’s\, 12-18 Bradbury Place\, Belfast\, Antrim\, BT71RS\, United Kingdom
CATEGORIES:DJ
ATTACH;FMTTYPE=image/jpeg:https://laverys.com/wp-content/uploads/2024/10/291A9753-Enhanced-NR-e1751556475963.jpg
ORGANIZER;CN="Lavery's":MAILTO:info@laverys.com
END:VEVENT
BEGIN:VEVENT
DTSTART;TZID=UTC:20251003T213000
DTEND;TZID=UTC:20251004T000000
DTSTAMP:20260421T031607
CREATED:20250923T162955Z
LAST-MODIFIED:20250924T164019Z
UID:10003971-1759527000-1759536000@laverys.com
SUMMARY:Le Chéile
DESCRIPTION:Join Lavery’s Live for Le Chéile\, a mix of Irish trad meets afrobeat\, funk\, groove\, with a throw in of funk versions of pop tunes. Fronted by a musician Phil Acheson!
URL:https://laverys.com/event/le-cheile/
LOCATION:Lavery’s\, 12-18 Bradbury Place\, Belfast\, Antrim\, BT71RS\, United Kingdom
CATEGORIES:Live at Lavery's
ATTACH;FMTTYPE=image/jpeg:https://laverys.com/wp-content/uploads/2025/09/Live-At-Laverys-template-INSTA.jpg
ORGANIZER;CN="Lavery's":MAILTO:info@laverys.com
END:VEVENT
BEGIN:VEVENT
DTSTART;TZID=UTC:20251004T210000
DTEND;TZID=UTC:20251005T011500
DTSTAMP:20260421T031607
CREATED:20250902T101752Z
LAST-MODIFIED:20250902T101752Z
UID:10003918-1759611600-1759626900@laverys.com
SUMMARY:Rebecca Nicell
DESCRIPTION:Rebecca has developed her own unique sound within our residents. Regardless of genre\, tempo\, style or release date\, Becca will get you moving!
URL:https://laverys.com/event/rebecca-nicell-14/2025-10-04/
LOCATION:Lavery’s\, 12-18 Bradbury Place\, Belfast\, Antrim\, BT71RS\, United Kingdom
CATEGORIES:DJ
ATTACH;FMTTYPE=image/jpeg:https://laverys.com/wp-content/uploads/2025/05/Screenshot-2025-05-21-at-15.42.06-e1748271641142.jpg
ORGANIZER;CN="Lavery's":MAILTO:info@laverys.com
END:VEVENT
BEGIN:VEVENT
DTSTART;TZID=UTC:20251004T210000
DTEND;TZID=UTC:20251005T011500
DTSTAMP:20260421T031607
CREATED:20250902T105009Z
LAST-MODIFIED:20250902T105009Z
UID:10003926-1759611600-1759626900@laverys.com
SUMMARY:Scott Lowry
DESCRIPTION:Eclectic selectors and rowdy party starter\, Scott is one of Lavery’s longest standing resident DJs and for good reason. One of the most taleneted DJs in the Belfast scene\, Scott’s knowledge of music is as deep as the Marinas Trench.
URL:https://laverys.com/event/scott-lowry-5/2025-10-04/
LOCATION:Lavery’s\, 12-18 Bradbury Place\, Belfast\, Antrim\, BT71RS\, United Kingdom
CATEGORIES:DJ
ATTACH;FMTTYPE=image/jpeg:https://laverys.com/wp-content/uploads/2025/06/Screenshot-2025-06-11-at-13.13.00.jpg
ORGANIZER;CN="Lavery's":MAILTO:info@laverys.com
END:VEVENT
BEGIN:VEVENT
DTSTART;TZID=UTC:20251005T190000
DTEND;TZID=UTC:20251005T210000
DTSTAMP:20260421T031607
CREATED:20250902T143633Z
LAST-MODIFIED:20250902T143633Z
UID:10003958-1759690800-1759698000@laverys.com
SUMMARY:Belfast Session Guide
DESCRIPTION:Belfast’s best traditional music session. Join the Belfast Session Guide open trad sessions every Sunday in our Public Bar.
URL:https://laverys.com/event/belfast-session-guide-11/2025-10-05/
LOCATION:Lavery’s\, 12-18 Bradbury Place\, Belfast\, Antrim\, BT71RS\, United Kingdom
CATEGORIES:Live at Lavery's
ATTACH;FMTTYPE=image/jpeg:https://laverys.com/wp-content/uploads/2024/03/Paddys-Day-2024-19-e1751634419460.jpg
ORGANIZER;CN="Lavery's":MAILTO:info@laverys.com
END:VEVENT
END:VCALENDAR