BEGIN:VCALENDAR
VERSION:2.0
PRODID:-//Lavery&#039;s - ECPv6.15.18//NONSGML v1.0//EN
CALSCALE:GREGORIAN
METHOD:PUBLISH
X-ORIGINAL-URL:https://laverys.com
X-WR-CALDESC:Events for Lavery&#039;s
REFRESH-INTERVAL;VALUE=DURATION:PT1H
X-Robots-Tag:noindex
X-PUBLISHED-TTL:PT1H
BEGIN:VTIMEZONE
TZID:UTC
BEGIN:STANDARD
TZOFFSETFROM:+0000
TZOFFSETTO:+0000
TZNAME:UTC
DTSTART:20240101T000000
END:STANDARD
END:VTIMEZONE
BEGIN:VEVENT
DTSTART;TZID=UTC:20251110T183000
DTEND;TZID=UTC:20251110T230000
DTSTAMP:20260420T233322
CREATED:20251104T170043Z
LAST-MODIFIED:20251104T170043Z
UID:10003978-1762799400-1762815600@laverys.com
SUMMARY:Belfast Improv Festival 2025
DESCRIPTION:The clsoing night of the Belfast Improv Festival\, featuring 4 amazing International ensembles: \nThe Ensemble (INT)\nA mix of performers coached by international Improv luminary Nick Armstrong. \nOwen & Jen (UK)\nLiverpudlian legends Owen Scrivens and Jen Hardy present a comedy show based on single-room sitcoms. \nMixed Nuts (INT)\nAn International team of improvisers based in Warsaw\, Mixed Nuts present a tale of comic friendships and rivalries. \nFools Gold (INT)\nSurprise guests round out the final offial act of the festival! \n…………………………… \nThis is the first time these groups have performed in Belfast\, and each ensemble will be making it up as they go along. \nDoors: 6.30pm\nStart: 7pm\nEnd: 10.30pm (approx)
URL:https://laverys.com/event/belfast-improv-festival-2025-3/
LOCATION:Lavery’s\, 12-18 Bradbury Place\, Belfast\, Antrim\, BT71RS\, United Kingdom
CATEGORIES:Belfast Improv
ATTACH;FMTTYPE=image/jpeg:https://laverys.com/wp-content/uploads/2025/11/291A0420-Enhanced-NR-copy-e1762274324104.jpg
ORGANIZER;CN="Lavery's":MAILTO:info@laverys.com
END:VEVENT
BEGIN:VEVENT
DTSTART;TZID=UTC:20251112T193000
DTEND;TZID=UTC:20251112T233000
DTSTAMP:20260420T233322
CREATED:20250828T143553Z
LAST-MODIFIED:20250828T143607Z
UID:10000301-1762975800-1762990200@laverys.com
SUMMARY:Lavery's Comedy Club - Wednesday 12th November 2025
DESCRIPTION:Colin Geddis has curated one of the funniest comedy nights Belfast has to offer. He transforms our middle floor into an intimate\, side-splittingly funny evening with guaranteed laughs; get down early to avoid sitting in the front row.
URL:https://laverys.com/event/wednesday-12th-nov-2025/
LOCATION:Tom’s\, 12-18 Bradbury Place\, Belfast\, Antrim\, BT71RS\, United Kingdom
CATEGORIES:Lavery's Comedy Club
ATTACH;FMTTYPE=image/png:https://laverys.com/wp-content/uploads/2023/02/Facebook-Event2-1.png
ORGANIZER;CN="Both Barrels Comedy":MAILTO:comedy@laverys.com
END:VEVENT
BEGIN:VEVENT
DTSTART;TZID=UTC:20251113T193000
DTEND;TZID=UTC:20251113T233000
DTSTAMP:20260420T233322
CREATED:20250828T143755Z
LAST-MODIFIED:20250828T143808Z
UID:10000302-1763062200-1763076600@laverys.com
SUMMARY:Lavery's Comedy Club - Thursday 13th November 2025
DESCRIPTION:Colin Geddis has curated one of the funniest comedy nights Belfast has to offer. He transforms our middle floor into an intimate\, side-splittingly funny evening with guaranteed laughs; get down early to avoid sitting in the front row.
URL:https://laverys.com/event/thursday-13th-nov-2025/
LOCATION:Tom’s\, 12-18 Bradbury Place\, Belfast\, Antrim\, BT71RS\, United Kingdom
CATEGORIES:Lavery's Comedy Club
ATTACH;FMTTYPE=image/png:https://laverys.com/wp-content/uploads/2023/02/Facebook-Event2-1.png
ORGANIZER;CN="Both Barrels Comedy":MAILTO:comedy@laverys.com
END:VEVENT
BEGIN:VEVENT
DTSTART;TZID=UTC:20251114T220000
DTEND;TZID=UTC:20251115T003000
DTSTAMP:20260420T233322
CREATED:20251113T102408Z
LAST-MODIFIED:20251113T102408Z
UID:10004013-1763157600-1763166600@laverys.com
SUMMARY:Belfast Groove Collective - Lavery's Live
DESCRIPTION:The Belfast Groove Collective is a carousel of musical possibilities\, offering a wide range of freedom within performance. Jamming is the key ingredient associated with the Belfast Groove Collective\, especially with their sought-after improvised jams ‘Kick Out The Jams’ which take place on the first Monday of each month in Tom’s on the first floor of Lavery’s.\nWell-known\, and well-respected\, throughout various avenues and scenes in and outside of Belfast\, the Belfast Groove Collective strive to work alongside passionate artists/musicians to help achieve the best quality of performances every time.
URL:https://laverys.com/event/belfast-groove-collective-laverys-live/
LOCATION:Lavery’s\, 12-18 Bradbury Place\, Belfast\, Antrim\, BT71RS\, United Kingdom
CATEGORIES:Live at Lavery's
ATTACH;FMTTYPE=image/jpeg:https://laverys.com/wp-content/uploads/2025/11/291A2192-Enhanced-NR-copy-e1763029364442.jpg
ORGANIZER;CN="Lavery's":MAILTO:info@laverys.com
END:VEVENT
BEGIN:VEVENT
DTSTART;TZID=UTC:20251115T180000
DTEND;TZID=UTC:20251115T200000
DTSTAMP:20260420T233322
CREATED:20251110T160334Z
LAST-MODIFIED:20251110T163003Z
UID:10003979-1763229600-1763236800@laverys.com
SUMMARY:Donal Scullion & The House Band - Christmas Market Live
DESCRIPTION:One of Belfast’s most talented musicians\, Donal Scullion of the NI Soul Troop\, Unholy Gospel Band and The Vibes\, brings along with him his full house band laying a mix of originals and unexpected covers.
URL:https://laverys.com/event/donal-scullion-the-house-band-christmas-market-live/2025-11-15/
LOCATION:Lavery’s\, 12-18 Bradbury Place\, Belfast\, Antrim\, BT71RS\, United Kingdom
CATEGORIES:Christmas Market
ATTACH;FMTTYPE=image/jpeg:https://laverys.com/wp-content/uploads/2025/11/470802929_10160343350197167_3217205880093506170_n-e1762790414618.jpg
ORGANIZER;CN="Lavery's":MAILTO:info@laverys.com
END:VEVENT
BEGIN:VEVENT
DTSTART;TZID=UTC:20251115T203000
DTEND;TZID=UTC:20251115T224500
DTSTAMP:20260420T233322
CREATED:20251110T165846Z
LAST-MODIFIED:20251112T180753Z
UID:10003991-1763238600-1763246700@laverys.com
SUMMARY:Plenty In The Tank - Christmas Market Live
DESCRIPTION:Immensely popular Armagh band Plenty In The Tank consists of three band members\, Paul Loughran\, Peter O’Hanlon and Glenn Close. They’re an energetic\, high tempo trio putting their twist on everything from folk\, indie\, rock and pop music.
URL:https://laverys.com/event/plenty-in-the-tank-christmas-market-live/2025-11-15/
LOCATION:Lavery’s\, 12-18 Bradbury Place\, Belfast\, Antrim\, BT71RS\, United Kingdom
CATEGORIES:Christmas Market
ATTACH;FMTTYPE=image/jpeg:https://laverys.com/wp-content/uploads/2025/11/Screenshot-2025-11-12-at-18.04.25-e1762970804964.jpg
ORGANIZER;CN="Lavery's":MAILTO:info@laverys.com
END:VEVENT
BEGIN:VEVENT
DTSTART;TZID=UTC:20251115T220000
DTEND;TZID=UTC:20251116T003000
DTSTAMP:20260420T233322
CREATED:20251113T103547Z
LAST-MODIFIED:20251113T103547Z
UID:10004014-1763244000-1763253000@laverys.com
SUMMARY:Clodagh McGrady - Lavery's Live
DESCRIPTION:One of Belfast’s brightest young voices. Raw\, intimate\, and brilliant live.
URL:https://laverys.com/event/clodagh-mcgrady-laverys-live/
LOCATION:Lavery’s\, 12-18 Bradbury Place\, Belfast\, Antrim\, BT71RS\, United Kingdom
CATEGORIES:Live at Lavery's
ATTACH;FMTTYPE=image/jpeg:https://laverys.com/wp-content/uploads/2025/11/521163186_18067170431469660_6491041017993476951_n-e1763030043133.jpg
ORGANIZER;CN="Lavery's":MAILTO:info@laverys.com
END:VEVENT
BEGIN:VEVENT
DTSTART;TZID=UTC:20251115T220000
DTEND;TZID=UTC:20251116T030000
DTSTAMP:20260420T233322
CREATED:20251103T140127Z
LAST-MODIFIED:20251103T140740Z
UID:10003974-1763244000-1763262000@laverys.com
SUMMARY:Ritmo x Rewind Presents
DESCRIPTION:Belfast promoters Ritmo & Rewind Records are teaming up to bring us a lineup like no other… \nFor the very first time DJ Swisherman goes B2B with Chris Flannigan\, alongside sets from: CIAN & ROSIE. \nRewind’s last show at Lavery’s with DJ Swisherman was a sell out\, this one is going to be even more special!
URL:https://laverys.com/event/ritmo-x-rewind-presents/
LOCATION:Lavery’s\, 12-18 Bradbury Place\, Belfast\, Antrim\, BT71RS\, United Kingdom
CATEGORIES:DJ
ATTACH;FMTTYPE=image/webp:https://laverys.com/wp-content/uploads/2025/11/041e503a3a20dfc8160e972ca7cb88cd9d1f8d8a.webp
ORGANIZER;CN="Lavery's":MAILTO:info@laverys.com
END:VEVENT
BEGIN:VEVENT
DTSTART;TZID=UTC:20251116T153000
DTEND;TZID=UTC:20251116T173000
DTSTAMP:20260420T233322
CREATED:20251111T135204Z
LAST-MODIFIED:20251111T135204Z
UID:10003996-1763307000-1763314200@laverys.com
SUMMARY:The Shamrocks - Christmas Market Live
DESCRIPTION:Direct from London’s West End\, The Shamrocks are Ireland’s most exciting new music sensation. Featuring performers from both sides of the community across the province of Ulster\, with vocalists from London’s West End along with the country’s best multi-instrumental.
URL:https://laverys.com/event/the-shamrocks-christmas-market-live/
LOCATION:Lavery’s\, 12-18 Bradbury Place\, Belfast\, Antrim\, BT71RS\, United Kingdom
CATEGORIES:Christmas Market
ATTACH;FMTTYPE=image/jpeg:https://laverys.com/wp-content/uploads/2025/11/Screenshot-2025-11-11-at-13.32.56-e1762869038649.jpg
ORGANIZER;CN="Lavery's":MAILTO:info@laverys.com
END:VEVENT
BEGIN:VEVENT
DTSTART;TZID=UTC:20251116T190000
DTEND;TZID=UTC:20251116T210000
DTSTAMP:20260420T233322
CREATED:20250902T143633Z
LAST-MODIFIED:20250902T143633Z
UID:10003964-1763319600-1763326800@laverys.com
SUMMARY:Belfast Session Guide
DESCRIPTION:Belfast’s best traditional music session. Join the Belfast Session Guide open trad sessions every Sunday in our Public Bar.
URL:https://laverys.com/event/belfast-session-guide-11/2025-11-16/
LOCATION:Lavery’s\, 12-18 Bradbury Place\, Belfast\, Antrim\, BT71RS\, United Kingdom
CATEGORIES:Live at Lavery's
ATTACH;FMTTYPE=image/jpeg:https://laverys.com/wp-content/uploads/2024/03/Paddys-Day-2024-19-e1751634419460.jpg
ORGANIZER;CN="Lavery's":MAILTO:info@laverys.com
END:VEVENT
END:VCALENDAR