BEGIN:VCALENDAR
VERSION:2.0
PRODID:-//Lavery&#039;s - ECPv6.15.18//NONSGML v1.0//EN
CALSCALE:GREGORIAN
METHOD:PUBLISH
X-WR-CALNAME:Lavery&#039;s
X-ORIGINAL-URL:https://laverys.com
X-WR-CALDESC:Events for Lavery&#039;s
REFRESH-INTERVAL;VALUE=DURATION:PT1H
X-Robots-Tag:noindex
X-PUBLISHED-TTL:PT1H
BEGIN:VTIMEZONE
TZID:UTC
BEGIN:STANDARD
TZOFFSETFROM:+0000
TZOFFSETTO:+0000
TZNAME:UTC
DTSTART:20240101T000000
END:STANDARD
END:VTIMEZONE
BEGIN:VEVENT
DTSTART;TZID=UTC:20251119T193000
DTEND;TZID=UTC:20251119T233000
DTSTAMP:20260420T172152
CREATED:20250828T144157Z
LAST-MODIFIED:20250828T145623Z
UID:10000303-1763580600-1763595000@laverys.com
SUMMARY:Lavery's Comedy Club - Wednesday 19th November 2025
DESCRIPTION:Colin Geddis has curated one of the funniest comedy nights Belfast has to offer. He transforms our middle floor into an intimate\, side-splittingly funny evening with guaranteed laughs; get down early to avoid sitting in the front row.
URL:https://laverys.com/event/wednesday-19th-nov-2025/
LOCATION:Tom’s\, 12-18 Bradbury Place\, Belfast\, Antrim\, BT71RS\, United Kingdom
CATEGORIES:Lavery's Comedy Club
ATTACH;FMTTYPE=image/png:https://laverys.com/wp-content/uploads/2023/02/Facebook-Event2-1.png
ORGANIZER;CN="Both Barrels Comedy":MAILTO:comedy@laverys.com
END:VEVENT
BEGIN:VEVENT
DTSTART;TZID=UTC:20251120T193000
DTEND;TZID=UTC:20251120T233000
DTSTAMP:20260420T172152
CREATED:20250828T145742Z
LAST-MODIFIED:20250828T145758Z
UID:10000304-1763667000-1763681400@laverys.com
SUMMARY:Lavery's Comedy Club - Thursday 20th November 2025
DESCRIPTION:Colin Geddis has curated one of the funniest comedy nights Belfast has to offer. He transforms our middle floor into an intimate\, side-splittingly funny evening with guaranteed laughs; get down early to avoid sitting in the front row.
URL:https://laverys.com/event/thursday-20th-nov-2025/
LOCATION:Tom’s\, 12-18 Bradbury Place\, Belfast\, Antrim\, BT71RS\, United Kingdom
CATEGORIES:Lavery's Comedy Club
ATTACH;FMTTYPE=image/png:https://laverys.com/wp-content/uploads/2023/02/Facebook-Event2-1.png
ORGANIZER;CN="Both Barrels Comedy":MAILTO:comedy@laverys.com
END:VEVENT
BEGIN:VEVENT
DTSTART;TZID=UTC:20251120T203000
DTEND;TZID=UTC:20251120T224500
DTSTAMP:20260420T172152
CREATED:20251112T114238Z
LAST-MODIFIED:20251112T114238Z
UID:10003997-1763670600-1763678700@laverys.com
SUMMARY:Jack Devlin & Cipasso - Christmas Market Live
DESCRIPTION:Hailing from Hilltown by the Mourne Mountains\, Jack Devlin has been an unstoppable force in Northern Ireland’s music scene for several years. \nTeaming up with Cipasso\, a multi-genre collective of artists that has a focus on funk\, soul\, funk and rock headed by the ever talented John Quinn\, their energetic sets will take you on a journey you’ll not forget. \n 
URL:https://laverys.com/event/jack-devlin-cipasso-christmas-market-live/2025-11-20/
LOCATION:Lavery’s\, 12-18 Bradbury Place\, Belfast\, Antrim\, BT71RS\, United Kingdom
CATEGORIES:Christmas Market,Live at Lavery's
ATTACH;FMTTYPE=image/jpeg:https://laverys.com/wp-content/uploads/2025/11/Screenshot-2025-11-11-at-14.06.12-e1762947612937.jpg
ORGANIZER;CN="Lavery's":MAILTO:info@laverys.com
END:VEVENT
BEGIN:VEVENT
DTSTART;TZID=UTC:20251121T180000
DTEND;TZID=UTC:20251121T200000
DTSTAMP:20260420T172152
CREATED:20251112T115144Z
LAST-MODIFIED:20251112T115144Z
UID:10004000-1763748000-1763755200@laverys.com
SUMMARY:The Real Shindig - Christmas Market Live
DESCRIPTION:The Real Shindig consists of Conor Blaney\, Ciarán McGuckin\, Rachel McGarrity\, Aide McIlduff & Brian Burns. Based in Belfast\, their music has taken them across Europe\, America and even as far as Australia. \n\nThe band’s combination of diverse influences creates a powerful live set which contains everything from traditional Irish to modern contemporary music.
URL:https://laverys.com/event/the-real-shindig-christmas-market-live/2025-11-21/
LOCATION:Lavery’s\, 12-18 Bradbury Place\, Belfast\, Antrim\, BT71RS\, United Kingdom
CATEGORIES:Christmas Market,Live at Lavery's
ATTACH;FMTTYPE=image/jpeg:https://laverys.com/wp-content/uploads/2024/10/Screenshot-2024-10-29-at-17.01.49-2-e1762948185963.jpg
ORGANIZER;CN="Lavery's":MAILTO:info@laverys.com
END:VEVENT
BEGIN:VEVENT
DTSTART;TZID=UTC:20251121T203000
DTEND;TZID=UTC:20251121T224500
DTSTAMP:20260420T172152
CREATED:20251112T124648Z
LAST-MODIFIED:20251112T124648Z
UID:10004002-1763757000-1763765100@laverys.com
SUMMARY:Raymie Eastwood - Christmas Market Live
DESCRIPTION:Raymie has been gigging in Ireland and abroad for a number of years. Not only is he on one of the most naturally born performers you’re likely to see\, his sets combine modern\, classic and even dance hits.\nWith his upbeat nature and comedic twist of audience interaction\, you know it’s a party when Raymie gets behind the mic!
URL:https://laverys.com/event/raymie-eastwood-christmas-market-live/2025-11-21/
LOCATION:Lavery’s\, 12-18 Bradbury Place\, Belfast\, Antrim\, BT71RS\, United Kingdom
CATEGORIES:Christmas Market,Live at Lavery's
ATTACH;FMTTYPE=image/jpeg:https://laverys.com/wp-content/uploads/2025/11/Screenshot-2025-11-12-at-11.55.24-e1762951485845.jpg
ORGANIZER;CN="Lavery's":MAILTO:info@laverys.com
END:VEVENT
BEGIN:VEVENT
DTSTART;TZID=UTC:20251121T210000
DTEND;TZID=UTC:20251122T011500
DTSTAMP:20260420T172152
CREATED:20250902T135408Z
LAST-MODIFIED:20250902T135408Z
UID:10003946-1763758800-1763774100@laverys.com
SUMMARY:Uncle Moe
DESCRIPTION:Andrew Moore co-founded the game-changing collective Plain Sailing\, one of Belfast’s best known club nights.\nAlongside Peter Gibney\, the duo have been throwing parties in Belfast for the last few years\, inviting a multi-faceted roster of artists for their debuts in the city – including Barker\, D.Tiffany\, Riz La Teef\, LCY & Interplanetary Criminal – whilst honing their craft as two of the city’s most exciting DJ pairings.\nNow under the alias of Uncle Mo\, you will have seen him playing at AVA Festival\, contributed a mix for Feel My Bicep’s reputable podcast series\, appeared on Dublin Digital Radio & BBC ATL Introducing and last year put out a mix on London record label Lobster Theremin’s respected podcast series.\nDuring the pandemic Andrew and Peter transformed Plain Sailing into an online-zine as a way of continuing to support the artists they loved during a time when gigs were not possible. They have since interviewed artists such as Mor Elian\, Kettama\, Cromby\, EMA\, Sputnik One and more\, and have introduced new sounds and listening experiences from Ireland and beyond through their Plain Sailing Debuts track series and Making Waves video series.
URL:https://laverys.com/event/uncle-moe-6/2025-11-21/
LOCATION:Lavery’s\, 12-18 Bradbury Place\, Belfast\, Antrim\, BT71RS\, United Kingdom
CATEGORIES:DJ
ATTACH;FMTTYPE=image/jpeg:https://laverys.com/wp-content/uploads/2024/03/291A5018-2-e1767876652506.jpg
ORGANIZER;CN="Lavery's":MAILTO:info@laverys.com
END:VEVENT
BEGIN:VEVENT
DTSTART;TZID=UTC:20251121T220000
DTEND;TZID=UTC:20251122T003000
DTSTAMP:20260420T172152
CREATED:20251113T105037Z
LAST-MODIFIED:20251113T105037Z
UID:10004015-1763762400-1763771400@laverys.com
SUMMARY:The Pottingers - Lavery's Live
DESCRIPTION:The Pottingers are a Belfast based indie/alt rock outfit named after the historic ‘Pottingers Entry’ connecting Ann Street to High Street in Belfast. hey consist of Peter Keogh on Bass\, Matt Hedley on Drums and backing vocals\, Mícheál Kennedy on lead guitar and Niáll Thomas Curtis fronting the band with rhythm guitar and his distinctive vocals.\nThe band has burst into the scene with their signature high energy performances and catchy hooks.
URL:https://laverys.com/event/the-pottingers-laverys-live/
LOCATION:Lavery’s\, 12-18 Bradbury Place\, Belfast\, Antrim\, BT71RS\, United Kingdom
CATEGORIES:Live at Lavery's
ATTACH;FMTTYPE=image/jpeg:https://laverys.com/wp-content/uploads/2025/11/503494877_1014015747380896_2974063511861218138_n-e1763030929558.jpg
ORGANIZER;CN="Lavery's":MAILTO:info@laverys.com
END:VEVENT
BEGIN:VEVENT
DTSTART;TZID=UTC:20251122T180000
DTEND;TZID=UTC:20251122T200000
DTSTAMP:20260420T172152
CREATED:20251110T160334Z
LAST-MODIFIED:20251110T163003Z
UID:10003980-1763834400-1763841600@laverys.com
SUMMARY:Donal Scullion & The House Band - Christmas Market Live
DESCRIPTION:One of Belfast’s most talented musicians\, Donal Scullion of the NI Soul Troop\, Unholy Gospel Band and The Vibes\, brings along with him his full house band laying a mix of originals and unexpected covers.
URL:https://laverys.com/event/donal-scullion-the-house-band-christmas-market-live/2025-11-22/
LOCATION:Lavery’s\, 12-18 Bradbury Place\, Belfast\, Antrim\, BT71RS\, United Kingdom
CATEGORIES:Christmas Market
ATTACH;FMTTYPE=image/jpeg:https://laverys.com/wp-content/uploads/2025/11/470802929_10160343350197167_3217205880093506170_n-e1762790414618.jpg
ORGANIZER;CN="Lavery's":MAILTO:info@laverys.com
END:VEVENT
BEGIN:VEVENT
DTSTART;TZID=UTC:20251122T203000
DTEND;TZID=UTC:20251122T224500
DTSTAMP:20260420T172152
CREATED:20251110T165846Z
LAST-MODIFIED:20251112T180753Z
UID:10003992-1763843400-1763851500@laverys.com
SUMMARY:Plenty In The Tank - Christmas Market Live
DESCRIPTION:Immensely popular Armagh band Plenty In The Tank consists of three band members\, Paul Loughran\, Peter O’Hanlon and Glenn Close. They’re an energetic\, high tempo trio putting their twist on everything from folk\, indie\, rock and pop music.
URL:https://laverys.com/event/plenty-in-the-tank-christmas-market-live/2025-11-22/
LOCATION:Lavery’s\, 12-18 Bradbury Place\, Belfast\, Antrim\, BT71RS\, United Kingdom
CATEGORIES:Christmas Market
ATTACH;FMTTYPE=image/jpeg:https://laverys.com/wp-content/uploads/2025/11/Screenshot-2025-11-12-at-18.04.25-e1762970804964.jpg
ORGANIZER;CN="Lavery's":MAILTO:info@laverys.com
END:VEVENT
BEGIN:VEVENT
DTSTART;TZID=UTC:20251122T210000
DTEND;TZID=UTC:20251123T011500
DTSTAMP:20260420T172152
CREATED:20250902T105009Z
LAST-MODIFIED:20250902T105009Z
UID:10003929-1763845200-1763860500@laverys.com
SUMMARY:Scott Lowry
DESCRIPTION:Eclectic selectors and rowdy party starter\, Scott is one of Lavery’s longest standing resident DJs and for good reason. One of the most taleneted DJs in the Belfast scene\, Scott’s knowledge of music is as deep as the Marinas Trench.
URL:https://laverys.com/event/scott-lowry-5/2025-11-22/
LOCATION:Lavery’s\, 12-18 Bradbury Place\, Belfast\, Antrim\, BT71RS\, United Kingdom
CATEGORIES:DJ
ATTACH;FMTTYPE=image/jpeg:https://laverys.com/wp-content/uploads/2025/06/Screenshot-2025-06-11-at-13.13.00.jpg
ORGANIZER;CN="Lavery's":MAILTO:info@laverys.com
END:VEVENT
BEGIN:VEVENT
DTSTART;TZID=UTC:20251122T210000
DTEND;TZID=UTC:20251123T011500
DTSTAMP:20260420T172152
CREATED:20250902T142715Z
LAST-MODIFIED:20250902T142715Z
UID:10003953-1763845200-1763860500@laverys.com
SUMMARY:Mark Johnston
DESCRIPTION:Mark has been a resident for more than 10 years. One half of the infamous Faux\, Mark has been one of the most influential DJs to grace our decks\, shaping the sound and atmosphere that people now associate with Lavery’s and The Woodworkers.
URL:https://laverys.com/event/mark-johnston-5/2025-11-22/
LOCATION:Lavery’s\, 12-18 Bradbury Place\, Belfast\, Antrim\, BT71RS\, United Kingdom
CATEGORIES:DJ
ATTACH;FMTTYPE=image/jpeg:https://laverys.com/wp-content/uploads/2025/05/Screenshot-2025-05-27-at-13.28.19-e1748349516952.jpg
ORGANIZER;CN="Lavery's":MAILTO:info@laverys.com
END:VEVENT
BEGIN:VEVENT
DTSTART;TZID=UTC:20251122T220000
DTEND;TZID=UTC:20251123T003000
DTSTAMP:20260420T172152
CREATED:20251113T110409Z
LAST-MODIFIED:20251113T110409Z
UID:10004016-1763848800-1763857800@laverys.com
SUMMARY:Golden Hour - Lavery's Live
DESCRIPTION:Golden Hour are a fabulous\, female-fronted\, high-energy pop band who will fill your dance floor with absolute bangers\, right from your first dance until the end of the night.
URL:https://laverys.com/event/golden-hour-laverys-live/
LOCATION:Lavery’s\, 12-18 Bradbury Place\, Belfast\, Antrim\, BT71RS\, United Kingdom
CATEGORIES:Live at Lavery's
ATTACH;FMTTYPE=image/jpeg:https://laverys.com/wp-content/uploads/2025/11/Screenshot-2025-11-12-at-13.14.16-e1762953851637.jpg
ORGANIZER;CN="Lavery's":MAILTO:info@laverys.com
END:VEVENT
BEGIN:VEVENT
DTSTART;TZID=UTC:20251123T153000
DTEND;TZID=UTC:20251123T173000
DTSTAMP:20260420T172152
CREATED:20251112T173443Z
LAST-MODIFIED:20251112T173443Z
UID:10004009-1763911800-1763919000@laverys.com
SUMMARY:Belfast Groove Collective - Christmas Market Live
DESCRIPTION:The Belfast Groove Collective is a carousel of musical possibilities\, offering a wide range of freedom within performance. Jamming is the key ingredient associated with the Belfast Groove Collective\, especially with their sought-after improvised jams\, which take place on the first Monday of each month in Tom’s on the first floor of Lavery’s.\nWell-known\, and well-respected\, throughout various avenues and scenes in and outside of Belfast\, the Belfast Groove Collective strive to work alongside passionate artists/musicians to help achieve the best quality of performances every time.
URL:https://laverys.com/event/belfast-groove-collective-christmas-market-live/2025-11-23/
LOCATION:Lavery’s\, 12-18 Bradbury Place\, Belfast\, Antrim\, BT71RS\, United Kingdom
CATEGORIES:Christmas Market,Live at Lavery's
ATTACH;FMTTYPE=image/jpeg:https://laverys.com/wp-content/uploads/2025/11/291A6314-copy-2-e1762968756878.jpg
ORGANIZER;CN="Lavery's":MAILTO:info@laverys.com
END:VEVENT
BEGIN:VEVENT
DTSTART;TZID=UTC:20251123T190000
DTEND;TZID=UTC:20251123T210000
DTSTAMP:20260420T172152
CREATED:20250902T143633Z
LAST-MODIFIED:20250902T143633Z
UID:10003965-1763924400-1763931600@laverys.com
SUMMARY:Belfast Session Guide
DESCRIPTION:Belfast’s best traditional music session. Join the Belfast Session Guide open trad sessions every Sunday in our Public Bar.
URL:https://laverys.com/event/belfast-session-guide-11/2025-11-23/
LOCATION:Lavery’s\, 12-18 Bradbury Place\, Belfast\, Antrim\, BT71RS\, United Kingdom
CATEGORIES:Live at Lavery's
ATTACH;FMTTYPE=image/jpeg:https://laverys.com/wp-content/uploads/2024/03/Paddys-Day-2024-19-e1751634419460.jpg
ORGANIZER;CN="Lavery's":MAILTO:info@laverys.com
END:VEVENT
END:VCALENDAR