BEGIN:VCALENDAR
VERSION:2.0
PRODID:-//Lavery&#039;s - ECPv6.15.18//NONSGML v1.0//EN
CALSCALE:GREGORIAN
METHOD:PUBLISH
X-ORIGINAL-URL:https://laverys.com
X-WR-CALDESC:Events for Lavery&#039;s
REFRESH-INTERVAL;VALUE=DURATION:PT1H
X-Robots-Tag:noindex
X-PUBLISHED-TTL:PT1H
BEGIN:VTIMEZONE
TZID:UTC
BEGIN:STANDARD
TZOFFSETFROM:+0000
TZOFFSETTO:+0000
TZNAME:UTC
DTSTART:20240101T000000
END:STANDARD
END:VTIMEZONE
BEGIN:VEVENT
DTSTART;TZID=UTC:20251201T200000
DTEND;TZID=UTC:20251202T013000
DTSTAMP:20260420T062739
CREATED:20250421T225943Z
LAST-MODIFIED:20250421T225943Z
UID:10003787-1764619200-1764639000@laverys.com
SUMMARY:Kick Out the Jams
DESCRIPTION:Join us for Belfast’s biggest\, best\, & most freewheeling open jam—everyone’s welcome so come on down & get in the mix! \nFree entry & a free Jameson & Ginger sponsored by our pals over at @jameson_ni / @claudia.jamesonwhiskey \n8pm ’til late. \nFree drink for all performers. ?
URL:https://laverys.com/event/kick-out-the-jams-3/2025-12-01/
LOCATION:Tom’s\, 12-18 Bradbury Place\, Belfast\, Antrim\, BT71RS\, United Kingdom
CATEGORIES:Kick Out the Jams
ATTACH;FMTTYPE=image/jpeg:https://laverys.com/wp-content/uploads/2024/04/291A8111-Enhanced-NR.jpg
ORGANIZER;CN="Lavery's":MAILTO:info@laverys.com
END:VEVENT
BEGIN:VEVENT
DTSTART;TZID=UTC:20251203T193000
DTEND;TZID=UTC:20251203T233000
DTSTAMP:20260420T062739
CREATED:20250828T150037Z
LAST-MODIFIED:20250828T150103Z
UID:10000307-1764790200-1764804600@laverys.com
SUMMARY:Lavery's Comedy Club - Wednesday 3rd December 2025
DESCRIPTION:Colin Geddis has curated one of the funniest comedy nights Belfast has to offer. He transforms our middle floor into an intimate\, side-splittingly funny evening with guaranteed laughs; get down early to avoid sitting in the front row.
URL:https://laverys.com/event/wednesday-3rd-dec-2025/
LOCATION:Tom’s\, 12-18 Bradbury Place\, Belfast\, Antrim\, BT71RS\, United Kingdom
CATEGORIES:Lavery's Comedy Club
ATTACH;FMTTYPE=image/png:https://laverys.com/wp-content/uploads/2023/02/Facebook-Event2-1.png
ORGANIZER;CN="Both Barrels Comedy":MAILTO:comedy@laverys.com
END:VEVENT
BEGIN:VEVENT
DTSTART;TZID=UTC:20251204T193000
DTEND;TZID=UTC:20251204T233000
DTSTAMP:20260420T062739
CREATED:20250828T150236Z
LAST-MODIFIED:20250828T150251Z
UID:10000308-1764876600-1764891000@laverys.com
SUMMARY:Lavery's Comedy Club - Thursday 4th December 2025
DESCRIPTION:Colin Geddis has curated one of the funniest comedy nights Belfast has to offer. He transforms our middle floor into an intimate\, side-splittingly funny evening with guaranteed laughs; get down early to avoid sitting in the front row.
URL:https://laverys.com/event/thursday-4th-dec-2025/
LOCATION:Tom’s\, 12-18 Bradbury Place\, Belfast\, Antrim\, BT71RS\, United Kingdom
CATEGORIES:Lavery's Comedy Club
ATTACH;FMTTYPE=image/png:https://laverys.com/wp-content/uploads/2023/02/Facebook-Event2-1.png
ORGANIZER;CN="Both Barrels Comedy":MAILTO:comedy@laverys.com
END:VEVENT
BEGIN:VEVENT
DTSTART;TZID=UTC:20251204T203000
DTEND;TZID=UTC:20251204T224500
DTSTAMP:20260420T062739
CREATED:20251112T115144Z
LAST-MODIFIED:20251112T115144Z
UID:10004001-1764880200-1764888300@laverys.com
SUMMARY:The Real Shindig - Christmas Market Live
DESCRIPTION:The Real Shindig consists of Conor Blaney\, Ciarán McGuckin\, Rachel McGarrity\, Aide McIlduff & Brian Burns. Based in Belfast\, their music has taken them across Europe\, America and even as far as Australia. \n\nThe band’s combination of diverse influences creates a powerful live set which contains everything from traditional Irish to modern contemporary music.
URL:https://laverys.com/event/the-real-shindig-christmas-market-live/2025-12-04/
LOCATION:Lavery’s\, 12-18 Bradbury Place\, Belfast\, Antrim\, BT71RS\, United Kingdom
CATEGORIES:Christmas Market,Live at Lavery's
ATTACH;FMTTYPE=image/jpeg:https://laverys.com/wp-content/uploads/2024/10/Screenshot-2024-10-29-at-17.01.49-2-e1762948185963.jpg
ORGANIZER;CN="Lavery's":MAILTO:info@laverys.com
END:VEVENT
BEGIN:VEVENT
DTSTART;TZID=UTC:20251205T180000
DTEND;TZID=UTC:20251205T200000
DTSTAMP:20260420T062739
CREATED:20251112T132546Z
LAST-MODIFIED:20251112T132546Z
UID:10004006-1764957600-1764964800@laverys.com
SUMMARY:Golden Hour - Christmas Market Live
DESCRIPTION:Golden Hour are a fabulous\, female-fronted\, high-energy pop band who will fill your dance floor with absolute bangers\, right from your first dance until the end of the night.
URL:https://laverys.com/event/golden-hour-christmas-market-live/2025-12-05/
LOCATION:Lavery’s\, 12-18 Bradbury Place\, Belfast\, Antrim\, BT71RS\, United Kingdom
CATEGORIES:Christmas Market,Live at Lavery's
ATTACH;FMTTYPE=image/jpeg:https://laverys.com/wp-content/uploads/2025/11/Screenshot-2025-11-12-at-13.14.16-e1762953851637.jpg
ORGANIZER;CN="Lavery's":MAILTO:info@laverys.com
END:VEVENT
BEGIN:VEVENT
DTSTART;TZID=UTC:20251205T200500
DTEND;TZID=UTC:20251205T221000
DTSTAMP:20260420T062739
CREATED:20250819T151806Z
LAST-MODIFIED:20250819T151806Z
UID:10003875-1764965100-1764972600@laverys.com
SUMMARY:Ulster vs Racing 92 (5/12/25)
DESCRIPTION:Join us!
URL:https://laverys.com/event/ulster-vs-racing92-25/
LOCATION:Ravenhill Stadium\, 134 Mount Merrion Avenue\, Belfast\, Antrim\, BT6 0FT\, United Kingdom
CATEGORIES:Ulster Rugby Ticket & Transport Package
ATTACH;FMTTYPE=image/png:https://laverys.com/wp-content/uploads/2025/08/racing92.png
ORGANIZER;CN="Lavery's":MAILTO:info@laverys.com
END:VEVENT
BEGIN:VEVENT
DTSTART;TZID=UTC:20251205T203000
DTEND;TZID=UTC:20251205T224500
DTSTAMP:20260420T062739
CREATED:20251110T165846Z
LAST-MODIFIED:20251112T180753Z
UID:10003994-1764966600-1764974700@laverys.com
SUMMARY:Plenty In The Tank - Christmas Market Live
DESCRIPTION:Immensely popular Armagh band Plenty In The Tank consists of three band members\, Paul Loughran\, Peter O’Hanlon and Glenn Close. They’re an energetic\, high tempo trio putting their twist on everything from folk\, indie\, rock and pop music.
URL:https://laverys.com/event/plenty-in-the-tank-christmas-market-live/2025-12-05/
LOCATION:Lavery’s\, 12-18 Bradbury Place\, Belfast\, Antrim\, BT71RS\, United Kingdom
CATEGORIES:Christmas Market
ATTACH;FMTTYPE=image/jpeg:https://laverys.com/wp-content/uploads/2025/11/Screenshot-2025-11-12-at-18.04.25-e1762970804964.jpg
ORGANIZER;CN="Lavery's":MAILTO:info@laverys.com
END:VEVENT
BEGIN:VEVENT
DTSTART;TZID=UTC:20251206T180000
DTEND;TZID=UTC:20251206T200000
DTSTAMP:20260420T062739
CREATED:20251110T160334Z
LAST-MODIFIED:20251110T163003Z
UID:10003982-1765044000-1765051200@laverys.com
SUMMARY:Donal Scullion & The House Band - Christmas Market Live
DESCRIPTION:One of Belfast’s most talented musicians\, Donal Scullion of the NI Soul Troop\, Unholy Gospel Band and The Vibes\, brings along with him his full house band laying a mix of originals and unexpected covers.
URL:https://laverys.com/event/donal-scullion-the-house-band-christmas-market-live/2025-12-06/
LOCATION:Lavery’s\, 12-18 Bradbury Place\, Belfast\, Antrim\, BT71RS\, United Kingdom
CATEGORIES:Christmas Market
ATTACH;FMTTYPE=image/jpeg:https://laverys.com/wp-content/uploads/2025/11/470802929_10160343350197167_3217205880093506170_n-e1762790414618.jpg
ORGANIZER;CN="Lavery's":MAILTO:info@laverys.com
END:VEVENT
BEGIN:VEVENT
DTSTART;TZID=UTC:20251206T203000
DTEND;TZID=UTC:20251206T224500
DTSTAMP:20260420T062739
CREATED:20251110T162829Z
LAST-MODIFIED:20251111T132714Z
UID:10003988-1765053000-1765061100@laverys.com
SUMMARY:Danielle Mullan - Christmas Market Live
DESCRIPTION:Danielle is one of Belfast’s most sought after musical talents. With a uniquely talented voice coupled alongside the amazing Jonathan Guitars\, this duo is not to be missed!
URL:https://laverys.com/event/danielle-mullan-christmas-market-live/2025-12-06/
LOCATION:Lavery’s\, 12-18 Bradbury Place\, Belfast\, Antrim\, BT71RS\, United Kingdom
CATEGORIES:Christmas Market
ATTACH;FMTTYPE=image/jpeg:https://laverys.com/wp-content/uploads/2025/11/Screenshot-2025-11-10-at-16.20.14-e1762792003591.jpg
ORGANIZER;CN="Lavery's":MAILTO:info@laverys.com
END:VEVENT
BEGIN:VEVENT
DTSTART;TZID=UTC:20251207T153000
DTEND;TZID=UTC:20251207T173000
DTSTAMP:20260420T062739
CREATED:20251112T173443Z
LAST-MODIFIED:20251112T173443Z
UID:10004010-1765121400-1765128600@laverys.com
SUMMARY:Belfast Groove Collective - Christmas Market Live
DESCRIPTION:The Belfast Groove Collective is a carousel of musical possibilities\, offering a wide range of freedom within performance. Jamming is the key ingredient associated with the Belfast Groove Collective\, especially with their sought-after improvised jams\, which take place on the first Monday of each month in Tom’s on the first floor of Lavery’s.\nWell-known\, and well-respected\, throughout various avenues and scenes in and outside of Belfast\, the Belfast Groove Collective strive to work alongside passionate artists/musicians to help achieve the best quality of performances every time.
URL:https://laverys.com/event/belfast-groove-collective-christmas-market-live/2025-12-07/
LOCATION:Lavery’s\, 12-18 Bradbury Place\, Belfast\, Antrim\, BT71RS\, United Kingdom
CATEGORIES:Christmas Market,Live at Lavery's
ATTACH;FMTTYPE=image/jpeg:https://laverys.com/wp-content/uploads/2025/11/291A6314-copy-2-e1762968756878.jpg
ORGANIZER;CN="Lavery's":MAILTO:info@laverys.com
END:VEVENT
END:VCALENDAR