BEGIN:VCALENDAR
VERSION:2.0
PRODID:-//Lavery&#039;s - ECPv6.15.18//NONSGML v1.0//EN
CALSCALE:GREGORIAN
METHOD:PUBLISH
X-WR-CALNAME:Lavery&#039;s
X-ORIGINAL-URL:https://laverys.com
X-WR-CALDESC:Events for Lavery&#039;s
REFRESH-INTERVAL;VALUE=DURATION:PT1H
X-Robots-Tag:noindex
X-PUBLISHED-TTL:PT1H
BEGIN:VTIMEZONE
TZID:UTC
BEGIN:STANDARD
TZOFFSETFROM:+0000
TZOFFSETTO:+0000
TZNAME:UTC
DTSTART:20240101T000000
END:STANDARD
END:VTIMEZONE
BEGIN:VEVENT
DTSTART;TZID=UTC:20251231T220000
DTEND;TZID=UTC:20260101T020000
DTSTAMP:20260420T080517
CREATED:20251205T172851Z
LAST-MODIFIED:20251205T174950Z
UID:10004019-1767218400-1767232800@laverys.com
SUMMARY:New Years Eve 2025
DESCRIPTION:The final and biggest party of the year will see four rooms full for a wall to wall celebration of 2025 and welcome to 2026! \nBACK BAR \nOur high-octane trad band Plenty In The Tank takes over the stage for a charged live set that blends trad\, folk and rock with festival-level momentum. \nTHE WOODWORKERS \nChris Jones and Conleth Forde take the Woodies stage for as they go B2B weaving Balearic bliss\, house\, funk\, shimmering cuts\, and plenty of surprises for the launch of Woodworkers Tongue & Groove. \nMIDDLE FLOOR – SOLD SEPARATELY  \nTWISTD turn the middle floor into a pulsing techno bunker. Expect industrial textures\, smoke\, strobes\, and relentless BPM as TWISTD rave your way into the new year. \nNIGHTCLUB!!! \nTwo of Lavery’s longest-standing residents reunite behind the decks for a special New Year’s Eve B2B. Decades of dance-floor experience collide as Scott Lowry & Pete Woods take the big room for the heartbeat of the NYE party! \nDoors from 10pm – Late \n  \n 
URL:https://laverys.com/event/new-years-eve-2025/
LOCATION:Lavery’s\, 12-18 Bradbury Place\, Belfast\, Antrim\, BT71RS\, United Kingdom
ATTACH;FMTTYPE=image/jpeg:https://laverys.com/wp-content/uploads/2025/12/2-scaled.jpg
ORGANIZER;CN="Lavery's":MAILTO:info@laverys.com
END:VEVENT
BEGIN:VEVENT
DTSTART;TZID=UTC:20260102T194500
DTEND;TZID=UTC:20260102T215000
DTSTAMP:20260420T080517
CREATED:20250819T152503Z
LAST-MODIFIED:20250819T153120Z
UID:10003876-1767383100-1767390600@laverys.com
SUMMARY:Ulster vs Munster (02/01/26)
DESCRIPTION:Join us!
URL:https://laverys.com/event/ulster-vs-munster-26/
LOCATION:Ravenhill Stadium\, 134 Mount Merrion Avenue\, Belfast\, Antrim\, BT6 0FT\, United Kingdom
CATEGORIES:Ulster Rugby Ticket & Transport Package
ATTACH;FMTTYPE=image/png:https://laverys.com/wp-content/uploads/2025/08/munster.png
ORGANIZER;CN="Lavery's":MAILTO:info@laverys.com
END:VEVENT
BEGIN:VEVENT
DTSTART;TZID=UTC:20260102T220000
DTEND;TZID=UTC:20260103T003000
DTSTAMP:20260420T080517
CREATED:20260102T121124Z
LAST-MODIFIED:20260102T121124Z
UID:10004023-1767391200-1767400200@laverys.com
SUMMARY:Lavery's Live - Donal Scullion
DESCRIPTION:One of Belfast’s most talented musicians\, Donal Scullion of the NI Soul Troop\, Unholy Gospel Band and The Vibes\, brings along with him his full house band laying a mix of originals and unexpected covers.
URL:https://laverys.com/event/laverys-live-donal-scullion/
LOCATION:Lavery’s\, 12-18 Bradbury Place\, Belfast\, Antrim\, BT71RS\, United Kingdom
CATEGORIES:Live at Lavery's
ATTACH;FMTTYPE=image/jpeg:https://laverys.com/wp-content/uploads/2025/09/Screenshot-2025-09-16-at-16.27.45-e1767355781429.jpg
ORGANIZER;CN="Lavery's":MAILTO:info@laverys.com
END:VEVENT
BEGIN:VEVENT
DTSTART;TZID=UTC:20260103T220000
DTEND;TZID=UTC:20260104T003000
DTSTAMP:20260420T080517
CREATED:20260102T160405Z
LAST-MODIFIED:20260102T160405Z
UID:10004024-1767477600-1767486600@laverys.com
SUMMARY:Lavery's Live - Chris Kelly
DESCRIPTION:Chris Kelly is a Belfast based singer-songwriter\, well known for his skills that combine elements of guitar-driven folk and rock woven together by bluesy vocals.
URL:https://laverys.com/event/laverys-live-chris-kelly/
LOCATION:Lavery’s\, 12-18 Bradbury Place\, Belfast\, Antrim\, BT71RS\, United Kingdom
CATEGORIES:Live at Lavery's
ATTACH;FMTTYPE=image/jpeg:https://laverys.com/wp-content/uploads/2026/01/Screenshot-2026-01-02-at-12.12.21-e1767369422475.jpg
ORGANIZER;CN="Lavery's":MAILTO:info@laverys.com
END:VEVENT
END:VCALENDAR