BEGIN:VCALENDAR
VERSION:2.0
PRODID:-//Lavery&#039;s - ECPv6.15.20//NONSGML v1.0//EN
CALSCALE:GREGORIAN
METHOD:PUBLISH
X-ORIGINAL-URL:https://laverys.com
X-WR-CALDESC:Events for Lavery&#039;s
REFRESH-INTERVAL;VALUE=DURATION:PT1H
X-Robots-Tag:noindex
X-PUBLISHED-TTL:PT1H
BEGIN:VTIMEZONE
TZID:UTC
BEGIN:STANDARD
TZOFFSETFROM:+0000
TZOFFSETTO:+0000
TZNAME:UTC
DTSTART:20250101T000000
END:STANDARD
END:VTIMEZONE
BEGIN:VEVENT
DTSTART;TZID=UTC:20260105T200000
DTEND;TZID=UTC:20260106T013000
DTSTAMP:20260423T013622
CREATED:20250421T225943Z
LAST-MODIFIED:20250421T225943Z
UID:10003788-1767643200-1767663000@laverys.com
SUMMARY:Kick Out the Jams
DESCRIPTION:Join us for Belfast’s biggest\, best\, & most freewheeling open jam—everyone’s welcome so come on down & get in the mix! \nFree entry & a free Jameson & Ginger sponsored by our pals over at @jameson_ni / @claudia.jamesonwhiskey \n8pm ’til late. \nFree drink for all performers. ?
URL:https://laverys.com/event/kick-out-the-jams-3/2026-01-05/
LOCATION:Tom’s\, 12-18 Bradbury Place\, Belfast\, Antrim\, BT71RS\, United Kingdom
CATEGORIES:Kick Out the Jams
ATTACH;FMTTYPE=image/jpeg:https://laverys.com/wp-content/uploads/2024/04/291A8111-Enhanced-NR.jpg
ORGANIZER;CN="Lavery's":MAILTO:info@laverys.com
END:VEVENT
BEGIN:VEVENT
DTSTART;TZID=UTC:20260108T080000
DTEND;TZID=UTC:20260108T170000
DTSTAMP:20260423T013622
CREATED:20260108T160835Z
LAST-MODIFIED:20260108T160835Z
UID:10004081-1767859200-1767891600@laverys.com
SUMMARY:Resident DJs - Scott Lowry
DESCRIPTION:Eclectic selectors and rowdy party starter\, Scott is one of Lavery’s longest standing resident DJs and for good reason. One of the most taleneted DJs in the Belfast scene\, Scott’s knowledge of music is as deep as the Marinas Trench.
URL:https://laverys.com/event/resident-djs-scott-lowry/
LOCATION:Lavery’s\, 12-18 Bradbury Place\, Belfast\, Antrim\, BT71RS\, United Kingdom
CATEGORIES:DJ
ATTACH;FMTTYPE=image/jpeg:https://laverys.com/wp-content/uploads/2024/11/Screenshot-2024-11-26-at-14.37.22-e1767888268236.jpg
ORGANIZER;CN="Lavery's":MAILTO:info@laverys.com
END:VEVENT
BEGIN:VEVENT
DTSTART;TZID=UTC:20260108T210000
DTEND;TZID=UTC:20260109T011500
DTSTAMP:20260423T013622
CREATED:20260108T121026Z
LAST-MODIFIED:20260215T162843Z
UID:10004073-1767906000-1767921300@laverys.com
SUMMARY:Resident DJs - Rebecca Nicell
DESCRIPTION:Rebecca has developed her own unique sound within our residents. Regardless of genre\, tempo\, style or release date\, Becca will get you moving!
URL:https://laverys.com/event/resident-djs-rebecca-nicell/2026-01-08/
LOCATION:Lavery’s\, 12-18 Bradbury Place\, Belfast\, Antrim\, BT71RS\, United Kingdom
CATEGORIES:DJ
ATTACH;FMTTYPE=image/jpeg:https://laverys.com/wp-content/uploads/2026/01/Screenshot-2026-01-07-at-12.25.47-e1767790048707.jpg
ORGANIZER;CN="Lavery's":MAILTO:info@laverys.com
END:VEVENT
BEGIN:VEVENT
DTSTART;TZID=UTC:20260109T210000
DTEND;TZID=UTC:20260110T011500
DTSTAMP:20260423T013622
CREATED:20260107T134510Z
LAST-MODIFIED:20260107T134510Z
UID:10004070-1767992400-1768007700@laverys.com
SUMMARY:Resident DJs - Chris Jones
DESCRIPTION:Longtime resident and Woodworkers favourite\, Chris has been a mainstay with us for good reason. Any time you get to hear his sets is an education in the highest quality of tune selection!
URL:https://laverys.com/event/resident-djs-chris-jones/2026-01-09/
LOCATION:Lavery’s\, 12-18 Bradbury Place\, Belfast\, Antrim\, BT71RS\, United Kingdom
CATEGORIES:DJ
ATTACH;FMTTYPE=image/jpeg:https://laverys.com/wp-content/uploads/2026/01/Screenshot-2026-01-07-at-13.36.46-e1767793230958.jpg
ORGANIZER;CN="Lavery's":MAILTO:info@laverys.com
END:VEVENT
BEGIN:VEVENT
DTSTART;TZID=UTC:20260109T220000
DTEND;TZID=UTC:20260110T003000
DTSTAMP:20260423T013622
CREATED:20260105T110731Z
LAST-MODIFIED:20260105T111337Z
UID:10004025-1767996000-1768005000@laverys.com
SUMMARY:Lavery's Live - Three Pints Deep
DESCRIPTION:Formed in the heart of Belfast’s vibrant traditional music scene\, Three Pints Deep have rapidly carved a name for themeselves as the city’s best trad band. Bringing together three renowned musicians Nathan Johnston\, Cormac Crummey and Eoin Murphy whose shared roots and deep musical rapport shine through every performance. Drawing on the rich traditions of Irish music with a modern twist\, the trio delivers a sound that is both authentic and alive with contemporary spirit.
URL:https://laverys.com/event/laverys-live-three-pints-deep/
LOCATION:Lavery’s\, 12-18 Bradbury Place\, Belfast\, Antrim\, BT71RS\, United Kingdom
ATTACH;FMTTYPE=image/jpeg:https://laverys.com/wp-content/uploads/2026/01/Screenshot-2026-01-05-at-09.04.57-e1767610310326.jpg
ORGANIZER;CN="Lavery's":MAILTO:info@laverys.com
END:VEVENT
BEGIN:VEVENT
DTSTART;TZID=UTC:20260110T210000
DTEND;TZID=UTC:20260111T011500
DTSTAMP:20260423T013622
CREATED:20260107T134510Z
LAST-MODIFIED:20260107T134510Z
UID:10004071-1768078800-1768094100@laverys.com
SUMMARY:Resident DJs - Chris Jones
DESCRIPTION:Longtime resident and Woodworkers favourite\, Chris has been a mainstay with us for good reason. Any time you get to hear his sets is an education in the highest quality of tune selection!
URL:https://laverys.com/event/resident-djs-chris-jones/2026-01-10/
LOCATION:Lavery’s\, 12-18 Bradbury Place\, Belfast\, Antrim\, BT71RS\, United Kingdom
CATEGORIES:DJ
ATTACH;FMTTYPE=image/jpeg:https://laverys.com/wp-content/uploads/2026/01/Screenshot-2026-01-07-at-13.36.46-e1767793230958.jpg
ORGANIZER;CN="Lavery's":MAILTO:info@laverys.com
END:VEVENT
BEGIN:VEVENT
DTSTART;TZID=UTC:20260110T210000
DTEND;TZID=UTC:20260111T011500
DTSTAMP:20260423T013622
CREATED:20260107T142725Z
LAST-MODIFIED:20260107T142725Z
UID:10004072-1768078800-1768094100@laverys.com
SUMMARY:Resident DJs - Caoimhe Moreland
DESCRIPTION:Caoimhe blew up rapidly after winning the AVA Emerging DJ Competition\, since then she’s played their main stage multiple times and been showcased by Mixmag and HÖR.\nWith all of this experience\, the night is in capable hands with Caoimhe.
URL:https://laverys.com/event/resident-djs-caoimhe-moreland/
LOCATION:Lavery’s\, 12-18 Bradbury Place\, Belfast\, Antrim\, BT71RS\, United Kingdom
CATEGORIES:DJ
ATTACH;FMTTYPE=image/jpeg:https://laverys.com/wp-content/uploads/2026/01/Screenshot-2026-01-07-at-14.22.40-e1767795953279.jpg
ORGANIZER;CN="Lavery's":MAILTO:info@laverys.com
END:VEVENT
BEGIN:VEVENT
DTSTART;TZID=UTC:20260110T220000
DTEND;TZID=UTC:20260111T003000
DTSTAMP:20260423T013622
CREATED:20260105T123518Z
LAST-MODIFIED:20260105T123518Z
UID:10004026-1768082400-1768091400@laverys.com
SUMMARY:Lavery's Live - Jai Sian Duo
DESCRIPTION:Born in Thailands capital Bangkok and raised in North of Ireland capital Belfast\, Jai Sian who is a singer song writer brings a distinctive unique soulful jazz vocal that stands out from a crowd.
URL:https://laverys.com/event/laverys-live-jai-sian-duo/
LOCATION:Lavery’s\, 12-18 Bradbury Place\, Belfast\, Antrim\, BT71RS\, United Kingdom
CATEGORIES:Live at Lavery's
ATTACH;FMTTYPE=image/jpeg:https://laverys.com/wp-content/uploads/2026/01/Screenshot-2026-01-05-at-11.18.42-e1767616431176.jpg
ORGANIZER;CN="Lavery's":MAILTO:info@laverys.com
END:VEVENT
BEGIN:VEVENT
DTSTART;TZID=UTC:20260111T190000
DTEND;TZID=UTC:20260111T203000
DTSTAMP:20260423T013622
CREATED:20260106T131451Z
LAST-MODIFIED:20260106T131451Z
UID:10004035-1768158000-1768163400@laverys.com
SUMMARY:Belfast Improv
DESCRIPTION:Improvisation is the art of spontaneously performing comedy and theatre without a script. \n\nImprov shows come in many flavours\, but at Belfast Improv our shows are typically ‘long-form’\, which means that we perform 20 min – 2 hour shows with an overarching narrative or theme.
URL:https://laverys.com/event/belfast-improv-3/2026-01-11/
LOCATION:Lavery’s\, 12-18 Bradbury Place\, Belfast\, Antrim\, BT71RS\, United Kingdom
CATEGORIES:Belfast Improv
ATTACH;FMTTYPE=image/jpeg:https://laverys.com/wp-content/uploads/2026/01/291A0420-Enhanced-NR-copy-2-e1767704772347.jpg
ORGANIZER;CN="Lavery's":MAILTO:info@laverys.com
END:VEVENT
BEGIN:VEVENT
DTSTART;TZID=UTC:20260111T190000
DTEND;TZID=UTC:20260111T210000
DTSTAMP:20260423T013622
CREATED:20260106T134522Z
LAST-MODIFIED:20260215T192227Z
UID:10004047-1768158000-1768165200@laverys.com
SUMMARY:Open Trad: Belfast Session Guide
DESCRIPTION:Belfast’s best traditional music session. Join the Belfast Session Guide open trad sessions every Sunday in our Public Bar.
URL:https://laverys.com/event/belfast-session-guide-12/2026-01-11/
LOCATION:Lavery’s\, 12-18 Bradbury Place\, Belfast\, Antrim\, BT71RS\, United Kingdom
CATEGORIES:Live at Lavery's
ATTACH;FMTTYPE=image/jpeg:https://laverys.com/wp-content/uploads/2026/01/291A4929-Enhanced-NR-copy-e1767707011188.jpg
ORGANIZER;CN="Lavery's":MAILTO:info@laverys.com
END:VEVENT
END:VCALENDAR