BEGIN:VCALENDAR
VERSION:2.0
PRODID:-//Lavery&#039;s - ECPv6.15.20//NONSGML v1.0//EN
CALSCALE:GREGORIAN
METHOD:PUBLISH
X-WR-CALNAME:Lavery&#039;s
X-ORIGINAL-URL:https://laverys.com
X-WR-CALDESC:Events for Lavery&#039;s
REFRESH-INTERVAL;VALUE=DURATION:PT1H
X-Robots-Tag:noindex
X-PUBLISHED-TTL:PT1H
BEGIN:VTIMEZONE
TZID:UTC
BEGIN:STANDARD
TZOFFSETFROM:+0000
TZOFFSETTO:+0000
TZNAME:UTC
DTSTART:20250101T000000
END:STANDARD
END:VTIMEZONE
BEGIN:VEVENT
DTSTART;TZID=UTC:20260121T193000
DTEND;TZID=UTC:20260121T233000
DTSTAMP:20260421T132557
CREATED:20250828T155456Z
LAST-MODIFIED:20250828T155511Z
UID:10000321-1769023800-1769038200@laverys.com
SUMMARY:Lavery's Comedy Club - Wednesday 21st January 2026
DESCRIPTION:Colin Geddis has curated one of the funniest comedy nights Belfast has to offer. He transforms our middle floor into an intimate\, side-splittingly funny evening with guaranteed laughs; get down early to avoid sitting in the front row.
URL:https://laverys.com/event/laveryscomedyclub-wednesday-21st-jan-2026/
LOCATION:Tom’s\, 12-18 Bradbury Place\, Belfast\, Antrim\, BT71RS\, United Kingdom
CATEGORIES:Lavery's Comedy Club
ATTACH;FMTTYPE=image/png:https://laverys.com/wp-content/uploads/2023/02/Facebook-Event2-1.png
ORGANIZER;CN="Both Barrels Comedy":MAILTO:comedy@laverys.com
END:VEVENT
BEGIN:VEVENT
DTSTART;TZID=UTC:20260122T193000
DTEND;TZID=UTC:20260122T233000
DTSTAMP:20260421T132557
CREATED:20250828T155554Z
LAST-MODIFIED:20250828T155609Z
UID:10000322-1769110200-1769124600@laverys.com
SUMMARY:Lavery's Comedy Club - Thursday 22nd January 2026
DESCRIPTION:Colin Geddis has curated one of the funniest comedy nights Belfast has to offer. He transforms our middle floor into an intimate\, side-splittingly funny evening with guaranteed laughs; get down early to avoid sitting in the front row.
URL:https://laverys.com/event/laveryscomedyclub-thursday-22nd-jan-2026/
LOCATION:Tom’s\, 12-18 Bradbury Place\, Belfast\, Antrim\, BT71RS\, United Kingdom
CATEGORIES:Lavery's Comedy Club
ATTACH;FMTTYPE=image/png:https://laverys.com/wp-content/uploads/2023/02/Facebook-Event2-1.png
ORGANIZER;CN="Both Barrels Comedy":MAILTO:comedy@laverys.com
END:VEVENT
BEGIN:VEVENT
DTSTART;TZID=UTC:20260122T210000
DTEND;TZID=UTC:20260123T011500
DTSTAMP:20260421T132557
CREATED:20260108T121026Z
LAST-MODIFIED:20260215T162843Z
UID:10004075-1769115600-1769130900@laverys.com
SUMMARY:Resident DJs - Rebecca Nicell
DESCRIPTION:Rebecca has developed her own unique sound within our residents. Regardless of genre\, tempo\, style or release date\, Becca will get you moving!
URL:https://laverys.com/event/resident-djs-rebecca-nicell/2026-01-22/
LOCATION:Lavery’s\, 12-18 Bradbury Place\, Belfast\, Antrim\, BT71RS\, United Kingdom
CATEGORIES:DJ
ATTACH;FMTTYPE=image/jpeg:https://laverys.com/wp-content/uploads/2026/01/Screenshot-2026-01-07-at-12.25.47-e1767790048707.jpg
ORGANIZER;CN="Lavery's":MAILTO:info@laverys.com
END:VEVENT
BEGIN:VEVENT
DTSTART;TZID=UTC:20260123T210000
DTEND;TZID=UTC:20260124T011500
DTSTAMP:20260421T132557
CREATED:20260108T161558Z
LAST-MODIFIED:20260108T161558Z
UID:10004082-1769202000-1769217300@laverys.com
SUMMARY:Resident DJs - Stevie Dougal
DESCRIPTION:Stevie becomes every venues favourite DJ instantaneously. His sets are high energy and adaptable to any setting.
URL:https://laverys.com/event/resident-djs-stevie-dougal/
LOCATION:Lavery’s\, 12-18 Bradbury Place\, Belfast\, Antrim\, BT71RS\, United Kingdom
CATEGORIES:DJ
ATTACH;FMTTYPE=image/jpeg:https://laverys.com/wp-content/uploads/2025/05/Screenshot-2025-06-09-at-15.31.29-e1767888816936.jpg
ORGANIZER;CN="Lavery's":MAILTO:info@laverys.com
END:VEVENT
BEGIN:VEVENT
DTSTART;TZID=UTC:20260123T220000
DTEND;TZID=UTC:20260124T003000
DTSTAMP:20260421T132557
CREATED:20260105T140605Z
LAST-MODIFIED:20260105T140605Z
UID:10004029-1769205600-1769214600@laverys.com
SUMMARY:Lavery's Live - Clodagh McGrady
DESCRIPTION:One of Belfast’s brightest young voices. Raw\, intimate\, and brilliant live.
URL:https://laverys.com/event/laverys-live-clodagh-mcgrady/
LOCATION:Lavery’s\, 12-18 Bradbury Place\, Belfast\, Antrim\, BT71RS\, United Kingdom
CATEGORIES:Live at Lavery's
ATTACH;FMTTYPE=image/jpeg:https://laverys.com/wp-content/uploads/2026/01/Screenshot-2026-01-05-at-13.30.41-e1767620908751.jpg
ORGANIZER;CN="Lavery's":MAILTO:info@laverys.com
END:VEVENT
BEGIN:VEVENT
DTSTART;TZID=UTC:20260124T210000
DTEND;TZID=UTC:20260125T011500
DTSTAMP:20260421T132557
CREATED:20260108T162659Z
LAST-MODIFIED:20260108T162720Z
UID:10004083-1769288400-1769303700@laverys.com
SUMMARY:Resident DJs - Mark Johnston
DESCRIPTION:Mark has been a resident for more than 10 years. One half of the infamous Faux\, Mark has been one of the most influential DJs to grace our decks\, shaping the sound and atmosphere that people now associate with Lavery’s and The Woodworkers.
URL:https://laverys.com/event/resident-djs-mark-jonston/
LOCATION:Lavery’s\, 12-18 Bradbury Place\, Belfast\, Antrim\, BT71RS\, United Kingdom
CATEGORIES:DJ
ATTACH;FMTTYPE=image/jpeg:https://laverys.com/wp-content/uploads/2026/01/Screenshot-2026-01-08-at-16.22.30-e1767889426651.jpg
ORGANIZER;CN="Lavery's":MAILTO:info@laverys.com
END:VEVENT
BEGIN:VEVENT
DTSTART;TZID=UTC:20260124T220000
DTEND;TZID=UTC:20260125T003000
DTSTAMP:20260421T132557
CREATED:20260106T140923Z
LAST-MODIFIED:20260106T140923Z
UID:10004060-1769292000-1769301000@laverys.com
SUMMARY:Lavery's Live - Cipasso
DESCRIPTION:Cipasso is a multi-genre collective of artists that have a focus on funk\, soul\, funk and rock. Headed by the ever talented John Quinn\, Cipasso’s energetic sets take you on a journey you’ll not forget.
URL:https://laverys.com/event/laverys-live-cipasso/
LOCATION:Lavery’s\, 12-18 Bradbury Place\, Belfast\, Antrim\, BT71RS\, United Kingdom
CATEGORIES:Live at Lavery's
ATTACH;FMTTYPE=image/jpeg:https://laverys.com/wp-content/uploads/2024/12/291A3855-copy-e1767708326152.jpg
ORGANIZER;CN="Lavery's":MAILTO:info@laverys.com
END:VEVENT
BEGIN:VEVENT
DTSTART;TZID=UTC:20260125T190000
DTEND;TZID=UTC:20260125T203000
DTSTAMP:20260421T132557
CREATED:20260106T131451Z
LAST-MODIFIED:20260106T131451Z
UID:10004037-1769367600-1769373000@laverys.com
SUMMARY:Belfast Improv
DESCRIPTION:Improvisation is the art of spontaneously performing comedy and theatre without a script. \n\nImprov shows come in many flavours\, but at Belfast Improv our shows are typically ‘long-form’\, which means that we perform 20 min – 2 hour shows with an overarching narrative or theme.
URL:https://laverys.com/event/belfast-improv-3/2026-01-25/
LOCATION:Lavery’s\, 12-18 Bradbury Place\, Belfast\, Antrim\, BT71RS\, United Kingdom
CATEGORIES:Belfast Improv
ATTACH;FMTTYPE=image/jpeg:https://laverys.com/wp-content/uploads/2026/01/291A0420-Enhanced-NR-copy-2-e1767704772347.jpg
ORGANIZER;CN="Lavery's":MAILTO:info@laverys.com
END:VEVENT
BEGIN:VEVENT
DTSTART;TZID=UTC:20260125T190000
DTEND;TZID=UTC:20260125T210000
DTSTAMP:20260421T132557
CREATED:20260106T134522Z
LAST-MODIFIED:20260215T192227Z
UID:10004049-1769367600-1769374800@laverys.com
SUMMARY:Open Trad: Belfast Session Guide
DESCRIPTION:Belfast’s best traditional music session. Join the Belfast Session Guide open trad sessions every Sunday in our Public Bar.
URL:https://laverys.com/event/belfast-session-guide-12/2026-01-25/
LOCATION:Lavery’s\, 12-18 Bradbury Place\, Belfast\, Antrim\, BT71RS\, United Kingdom
CATEGORIES:Live at Lavery's
ATTACH;FMTTYPE=image/jpeg:https://laverys.com/wp-content/uploads/2026/01/291A4929-Enhanced-NR-copy-e1767707011188.jpg
ORGANIZER;CN="Lavery's":MAILTO:info@laverys.com
END:VEVENT
END:VCALENDAR