BEGIN:VCALENDAR
VERSION:2.0
PRODID:-//Lavery&#039;s - ECPv6.15.18//NONSGML v1.0//EN
CALSCALE:GREGORIAN
METHOD:PUBLISH
X-ORIGINAL-URL:https://laverys.com
X-WR-CALDESC:Events for Lavery&#039;s
REFRESH-INTERVAL;VALUE=DURATION:PT1H
X-Robots-Tag:noindex
X-PUBLISHED-TTL:PT1H
BEGIN:VTIMEZONE
TZID:UTC
BEGIN:STANDARD
TZOFFSETFROM:+0000
TZOFFSETTO:+0000
TZNAME:UTC
DTSTART:20250101T000000
END:STANDARD
END:VTIMEZONE
BEGIN:VEVENT
DTSTART;TZID=UTC:20260512T193000
DTEND;TZID=UTC:20260513T000000
DTSTAMP:20260420T062714
CREATED:20260122T143045Z
LAST-MODIFIED:20260122T143048Z
UID:10004104-1778614200-1778630400@laverys.com
SUMMARY:Skinty
DESCRIPTION:Belfast’s newest student night. Loud bands. Cheap drinks. No excuses.
URL:https://laverys.com/event/skinty-15/
LOCATION:Lavery’s Back Bar\, 12-18 Bradbury Place\, Belfast\, Antrim\, BT71RS\, United Kingdom
CATEGORIES:Live at Lavery's
ATTACH;FMTTYPE=image/png:https://laverys.com/wp-content/uploads/2026/01/Artboard-1.png
ORGANIZER;CN="Lavery's":MAILTO:info@laverys.com
END:VEVENT
BEGIN:VEVENT
DTSTART;TZID=UTC:20260513T193000
DTEND;TZID=UTC:20260513T233000
DTSTAMP:20260420T062714
CREATED:20260406T143526Z
LAST-MODIFIED:20260406T143529Z
UID:10000353-1778700600-1778715000@laverys.com
SUMMARY:Lavery's Comedy Club - Wednesday 13th May 2026
DESCRIPTION:All dates are currently on sale here. If the date you are looking for is not on sale yet\, please check back soon.
URL:https://laverys.com/event/laverys-comedy-club-4-2-11/
LOCATION:Tom’s\, 12-18 Bradbury Place\, Belfast\, Antrim\, BT71RS\, United Kingdom
CATEGORIES:Lavery's Comedy Club
ATTACH;FMTTYPE=image/png:https://laverys.com/wp-content/uploads/2023/02/Facebook-Event2-1.png
ORGANIZER;CN="Both Barrels Comedy":MAILTO:comedy@laverys.com
END:VEVENT
BEGIN:VEVENT
DTSTART;TZID=UTC:20260514T193000
DTEND;TZID=UTC:20260514T233000
DTSTAMP:20260420T062714
CREATED:20260406T143559Z
LAST-MODIFIED:20260406T143602Z
UID:10000354-1778787000-1778801400@laverys.com
SUMMARY:Lavery's Comedy Club - Thursday 14th May 2026
DESCRIPTION:All dates are currently on sale here. If the date you are looking for is not on sale yet\, please check back soon.
URL:https://laverys.com/event/laverys-comedy-club-4-2-12/
LOCATION:Tom’s\, 12-18 Bradbury Place\, Belfast\, Antrim\, BT71RS\, United Kingdom
CATEGORIES:Lavery's Comedy Club
ATTACH;FMTTYPE=image/png:https://laverys.com/wp-content/uploads/2023/02/Facebook-Event2-1.png
ORGANIZER;CN="Both Barrels Comedy":MAILTO:comedy@laverys.com
END:VEVENT
BEGIN:VEVENT
DTSTART;TZID=UTC:20260515T194500
DTEND;TZID=UTC:20260515T215000
DTSTAMP:20260420T062714
CREATED:20250819T160630Z
LAST-MODIFIED:20260414T153244Z
UID:10003882-1778874300-1778881800@laverys.com
SUMMARY:Ulster vs Glasgow Warriors (15/05/26)
DESCRIPTION:Join us!
URL:https://laverys.com/event/ulster-vs-glasgow-26/
LOCATION:Affidea Stadium\, Affidea Stadium\, Belfast\, Antrim\, United Kingdom
CATEGORIES:Ulster Rugby Ticket & Transport Package
ATTACH;FMTTYPE=image/png:https://laverys.com/wp-content/uploads/2025/08/glasgow.png
ORGANIZER;CN="Lavery's":MAILTO:info@laverys.com
END:VEVENT
BEGIN:VEVENT
DTSTART;TZID=UTC:20260515T210000
DTEND;TZID=UTC:20260516T011500
DTSTAMP:20260420T062714
CREATED:20260309T095545Z
LAST-MODIFIED:20260324T153642Z
UID:10004530-1778878800-1778894100@laverys.com
SUMMARY:Resident DJs: Andrew Moore
DESCRIPTION:Andrew Moore co-founded the game-changing collective Plain Sailing\, one of Belfast’s best known club nights. Alongside Peter Gibney\, the duo have been throwing parties in Belfast for the last few years\, inviting a multi-faceted roster of artists for their debuts in the city – including Barker\, D.Tiffany\, Riz La Teef\, LCY & Interplanetary Criminal – whilst honing their craft as two of the city’s most exciting DJ pairings. Now under the alias of Uncle Moe\, you will have seen him playing at AVA Festival\, contributed a mix for Feel My Bicep’s reputable podcast series\, appeared on Dublin Digital Radio & BBC ATL Introducing and last year put out a mix on London record label Lobster Theremin’s respected podcast series. During the pandemic Andrew and Peter transformed Plain Sailing into an online-zine as a way of continuing to support the artists they loved during a time when gigs were not possible. They have since interviewed artists such as Mor Elian\, Kettama\, Cromby\, EMA\, Sputnik One and more\, and have introduced new sounds and listening experiences from Ireland and beyond through their Plain Sailing Debuts track series and Making Waves video series.
URL:https://laverys.com/event/resident-djs-andrew-moore-3/2026-05-15/
LOCATION:Lavery’s\, 12-18 Bradbury Place\, Belfast\, Antrim\, BT71RS\, United Kingdom
CATEGORIES:DJ
ATTACH;FMTTYPE=image/png:https://laverys.com/wp-content/uploads/2026/03/Screenshot-2026-03-09-at-09.53.54.png
ORGANIZER;CN="Lavery's":MAILTO:info@laverys.com
END:VEVENT
BEGIN:VEVENT
DTSTART;TZID=UTC:20260515T210000
DTEND;TZID=UTC:20260516T011500
DTSTAMP:20260420T062714
CREATED:20260309T110244Z
LAST-MODIFIED:20260324T152529Z
UID:10004522-1778878800-1778894100@laverys.com
SUMMARY:Resident DJs: Pete Gibney
DESCRIPTION:Pete is one of the most established DJs in Belfast. Having co-founded one of Belfast’s biggest club nights Plain Sailing\, we’re very lucky to have him as one of our residents.
URL:https://laverys.com/event/resident-djs-pete-gibney-3/2026-05-15/
LOCATION:Lavery’s\, 12-18 Bradbury Place\, Belfast\, Antrim\, BT71RS\, United Kingdom
CATEGORIES:DJ
ATTACH;FMTTYPE=image/jpeg:https://laverys.com/wp-content/uploads/2024/06/291A4580-Enhanced-NR.jpg
ORGANIZER;CN="Lavery's":MAILTO:info@laverys.com
END:VEVENT
BEGIN:VEVENT
DTSTART;TZID=UTC:20260516T210000
DTEND;TZID=UTC:20260517T011500
DTSTAMP:20260420T062714
CREATED:20260309T105415Z
LAST-MODIFIED:20260324T152858Z
UID:10004526-1778965200-1778980500@laverys.com
SUMMARY:Resident DJs: Pete Woods
DESCRIPTION:Having spent many years playing at all of the major local night clubs (alongside local hard-hitters and national acts alike)\, holding multiple residencies\, DJing special events and promoting his own shows\, Pete has had a lot of time to develop his sound.
URL:https://laverys.com/event/resident-djs-pete-woods-4/2026-05-16/
LOCATION:Lavery’s\, 12-18 Bradbury Place\, Belfast\, Antrim\, BT71RS\, United Kingdom
CATEGORIES:DJ
ATTACH;FMTTYPE=image/jpeg:https://laverys.com/wp-content/uploads/2024/03/Paddys-Day-2024-2093-e1767884440841.jpg
ORGANIZER;CN="Lavery's":MAILTO:info@laverys.com
END:VEVENT
BEGIN:VEVENT
DTSTART;TZID=UTC:20260516T210000
DTEND;TZID=UTC:20260517T011500
DTSTAMP:20260420T062714
CREATED:20260309T111012Z
LAST-MODIFIED:20260324T162727Z
UID:10004534-1778965200-1778980500@laverys.com
SUMMARY:Resident DJs: David Gilmore
DESCRIPTION:David has had a lot of time to develop his sound. For him\, it’s all about mood and a deep\, hypnotic groove… playing those tracks that get you tapping your feet and nodding your head without you realising it.
URL:https://laverys.com/event/resident-djs-david-gilmore-3/2026-05-16/
LOCATION:Lavery’s\, 12-18 Bradbury Place\, Belfast\, Antrim\, BT71RS\, United Kingdom
CATEGORIES:DJ
ATTACH;FMTTYPE=image/jpeg:https://laverys.com/wp-content/uploads/2026/02/Halloween-18.jpg
ORGANIZER;CN="Lavery's":MAILTO:info@laverys.com
END:VEVENT
END:VCALENDAR