BEGIN:VCALENDAR
VERSION:2.0
PRODID:-//Lavery&#039;s - ECPv6.15.18//NONSGML v1.0//EN
CALSCALE:GREGORIAN
METHOD:PUBLISH
X-ORIGINAL-URL:https://laverys.com
X-WR-CALDESC:Events for Lavery&#039;s
REFRESH-INTERVAL;VALUE=DURATION:PT1H
X-Robots-Tag:noindex
X-PUBLISHED-TTL:PT1H
BEGIN:VTIMEZONE
TZID:UTC
BEGIN:STANDARD
TZOFFSETFROM:+0000
TZOFFSETTO:+0000
TZNAME:UTC
DTSTART:20250101T000000
END:STANDARD
END:VTIMEZONE
BEGIN:VEVENT
DTSTART;TZID=UTC:20260602T193000
DTEND;TZID=UTC:20260603T000000
DTSTAMP:20260420T023709
CREATED:20260122T143113Z
LAST-MODIFIED:20260122T143116Z
UID:10004107-1780428600-1780444800@laverys.com
SUMMARY:Skinty
DESCRIPTION:Belfast’s newest student night. Loud bands. Cheap drinks. No excuses.
URL:https://laverys.com/event/skinty-18/
LOCATION:Lavery’s Back Bar\, 12-18 Bradbury Place\, Belfast\, Antrim\, BT71RS\, United Kingdom
CATEGORIES:Live at Lavery's
ATTACH;FMTTYPE=image/png:https://laverys.com/wp-content/uploads/2026/01/Artboard-1.png
ORGANIZER;CN="Lavery's":MAILTO:info@laverys.com
END:VEVENT
BEGIN:VEVENT
DTSTART;TZID=UTC:20260603T193000
DTEND;TZID=UTC:20260603T233000
DTSTAMP:20260420T023709
CREATED:20230519T102146Z
LAST-MODIFIED:20240311T215058Z
UID:10000359-1780515000-1780529400@laverys.com
SUMMARY:Lavery's Comedy Club
DESCRIPTION:All dates are currently on sale here. If the date you are looking for is not on sale yet\, please check back soon.
URL:https://laverys.com/event/laverys-comedy-club-4-2/2026-06-03/
LOCATION:Tom’s\, 12-18 Bradbury Place\, Belfast\, Antrim\, BT71RS\, United Kingdom
CATEGORIES:Lavery's Comedy Club
ATTACH;FMTTYPE=image/png:https://laverys.com/wp-content/uploads/2023/02/Facebook-Event2-1.png
ORGANIZER;CN="Both Barrels Comedy":MAILTO:comedy@laverys.com
END:VEVENT
BEGIN:VEVENT
DTSTART;TZID=UTC:20260604T193000
DTEND;TZID=UTC:20260604T233000
DTSTAMP:20260420T023709
CREATED:20230519T102146Z
LAST-MODIFIED:20240311T215058Z
UID:10000360-1780601400-1780615800@laverys.com
SUMMARY:Lavery's Comedy Club
DESCRIPTION:All dates are currently on sale here. If the date you are looking for is not on sale yet\, please check back soon.
URL:https://laverys.com/event/laverys-comedy-club-4-2/2026-06-04/
LOCATION:Tom’s\, 12-18 Bradbury Place\, Belfast\, Antrim\, BT71RS\, United Kingdom
CATEGORIES:Lavery's Comedy Club
ATTACH;FMTTYPE=image/png:https://laverys.com/wp-content/uploads/2023/02/Facebook-Event2-1.png
ORGANIZER;CN="Both Barrels Comedy":MAILTO:comedy@laverys.com
END:VEVENT
BEGIN:VEVENT
DTSTART;TZID=UTC:20260605T210000
DTEND;TZID=UTC:20260606T011500
DTSTAMP:20260420T023709
CREATED:20260108T155628Z
LAST-MODIFIED:20260324T145759Z
UID:10004491-1780693200-1780708500@laverys.com
SUMMARY:Resident DJs - Phil Lucas
DESCRIPTION:Phil Lucas is one half of Twitch Belfast\, one of the city’s longest-running and most influential independent electronic music nights. He’s been involved in AVA Festival since its start 9 years ago and is a huge supporter of other local DJ talents. Twitch has been on the go for almost 18 years drawing big names like Ben UFO\, Joy Orbison\, Shanti Celeste\, Erol Alkan and Orbital. We feel very fortunate to have Phil has a resident DJ.
URL:https://laverys.com/event/resident-djs-phil-lucas-2/2026-06-05/
LOCATION:Lavery’s\, 12-18 Bradbury Place\, Belfast\, Antrim\, BT71RS\, United Kingdom
CATEGORIES:DJ
ATTACH;FMTTYPE=image/jpeg:https://laverys.com/wp-content/uploads/2026/01/291A9753-Enhanced-NR-copy-3-e1767792094120.jpg
ORGANIZER;CN="Lavery's":MAILTO:info@laverys.com
END:VEVENT
BEGIN:VEVENT
DTSTART;TZID=UTC:20260606T210000
DTEND;TZID=UTC:20260607T011500
DTSTAMP:20260420T023709
CREATED:20260309T153903Z
LAST-MODIFIED:20260324T150328Z
UID:10004501-1780779600-1780794900@laverys.com
SUMMARY:Resident DJs: Scott Lowry
DESCRIPTION:Eclectic selector and rowdy party starter\, Scott is one of Lavery’s longest standing resident DJs and for good reason. One of the most talented DJs in the Belfast scene\, Scott’s knowledge of music is as deep as the Marinas Trench.
URL:https://laverys.com/event/resident-djs-scott-lowry-3/2026-06-06/
LOCATION:Lavery’s\, 12-18 Bradbury Place\, Belfast\, Antrim\, BT71RS\, United Kingdom
CATEGORIES:DJ
ATTACH;FMTTYPE=image/jpeg:https://laverys.com/wp-content/uploads/2026/01/Screenshot-2026-01-08-at-16.25.17-e1767889590490.jpg
ORGANIZER;CN="Lavery's":MAILTO:info@laverys.com
END:VEVENT
END:VCALENDAR