BEGIN:VCALENDAR
VERSION:2.0
PRODID:-//Lavery&#039;s - ECPv6.15.18//NONSGML v1.0//EN
CALSCALE:GREGORIAN
METHOD:PUBLISH
X-ORIGINAL-URL:https://laverys.com
X-WR-CALDESC:Events for Lavery&#039;s
REFRESH-INTERVAL;VALUE=DURATION:PT1H
X-Robots-Tag:noindex
X-PUBLISHED-TTL:PT1H
BEGIN:VTIMEZONE
TZID:UTC
BEGIN:STANDARD
TZOFFSETFROM:+0000
TZOFFSETTO:+0000
TZNAME:UTC
DTSTART:20250101T000000
END:STANDARD
END:VTIMEZONE
BEGIN:VEVENT
DTSTART;TZID=UTC:20260610T193000
DTEND;TZID=UTC:20260610T233000
DTSTAMP:20260420T224757
CREATED:20230519T102146Z
LAST-MODIFIED:20240311T215058Z
UID:10000361-1781119800-1781134200@laverys.com
SUMMARY:Lavery's Comedy Club
DESCRIPTION:All dates are currently on sale here. If the date you are looking for is not on sale yet\, please check back soon.
URL:https://laverys.com/event/laverys-comedy-club-4-2/2026-06-10/
LOCATION:Tom’s\, 12-18 Bradbury Place\, Belfast\, Antrim\, BT71RS\, United Kingdom
CATEGORIES:Lavery's Comedy Club
ATTACH;FMTTYPE=image/png:https://laverys.com/wp-content/uploads/2023/02/Facebook-Event2-1.png
ORGANIZER;CN="Both Barrels Comedy":MAILTO:comedy@laverys.com
END:VEVENT
BEGIN:VEVENT
DTSTART;TZID=UTC:20260611T193000
DTEND;TZID=UTC:20260611T233000
DTSTAMP:20260420T224757
CREATED:20230519T102146Z
LAST-MODIFIED:20240311T215058Z
UID:10000362-1781206200-1781220600@laverys.com
SUMMARY:Lavery's Comedy Club
DESCRIPTION:All dates are currently on sale here. If the date you are looking for is not on sale yet\, please check back soon.
URL:https://laverys.com/event/laverys-comedy-club-4-2/2026-06-11/
LOCATION:Tom’s\, 12-18 Bradbury Place\, Belfast\, Antrim\, BT71RS\, United Kingdom
CATEGORIES:Lavery's Comedy Club
ATTACH;FMTTYPE=image/png:https://laverys.com/wp-content/uploads/2023/02/Facebook-Event2-1.png
ORGANIZER;CN="Both Barrels Comedy":MAILTO:comedy@laverys.com
END:VEVENT
BEGIN:VEVENT
DTSTART;TZID=UTC:20260612T210000
DTEND;TZID=UTC:20260613T011500
DTSTAMP:20260420T224757
CREATED:20260309T100441Z
LAST-MODIFIED:20260324T151729Z
UID:10004513-1781298000-1781313300@laverys.com
SUMMARY:Resident DJs: Chris Jones
DESCRIPTION:Longtime resident and Woodworkers favourite\, Chris has been a mainstay with us for good reason. Any time you get to hear his sets is an education in the highest quality of tune selection!
URL:https://laverys.com/event/resident-djs-chris-jones-2/2026-06-12/
LOCATION:Lavery’s\, 12-18 Bradbury Place\, Belfast\, Antrim\, BT71RS\, United Kingdom
CATEGORIES:DJ
ATTACH;FMTTYPE=image/jpeg:https://laverys.com/wp-content/uploads/2025/07/Screenshot-2025-06-28-at-01.36.05.jpg
ORGANIZER;CN="Lavery's":MAILTO:info@laverys.com
END:VEVENT
BEGIN:VEVENT
DTSTART;TZID=UTC:20260612T210000
DTEND;TZID=UTC:20260613T011500
DTSTAMP:20260420T224757
CREATED:20260309T101852Z
LAST-MODIFIED:20260324T150804Z
UID:10004507-1781298000-1781313300@laverys.com
SUMMARY:Resident DJs: Paddy Towe
DESCRIPTION:Paddy is widely regarded as one of Belfast’s best DJs. Having co-founded Belfast’s biggest club night Twitch\, he’s been on the scene for 20 years.
URL:https://laverys.com/event/resident-djs-paddy-towe/2026-06-12/
LOCATION:Lavery’s\, 12-18 Bradbury Place\, Belfast\, Antrim\, BT71RS\, United Kingdom
CATEGORIES:DJ
ATTACH;FMTTYPE=image/jpeg:https://laverys.com/wp-content/uploads/2024/10/291A9678-Enhanced-NR-e1734097585736.jpg
ORGANIZER;CN="Lavery's":MAILTO:info@laverys.com
END:VEVENT
BEGIN:VEVENT
DTSTART;TZID=UTC:20260613T210000
DTEND;TZID=UTC:20260614T011500
DTSTAMP:20260420T224757
CREATED:20260309T100441Z
LAST-MODIFIED:20260324T151729Z
UID:10004514-1781384400-1781399700@laverys.com
SUMMARY:Resident DJs: Chris Jones
DESCRIPTION:Longtime resident and Woodworkers favourite\, Chris has been a mainstay with us for good reason. Any time you get to hear his sets is an education in the highest quality of tune selection!
URL:https://laverys.com/event/resident-djs-chris-jones-2/2026-06-13/
LOCATION:Lavery’s\, 12-18 Bradbury Place\, Belfast\, Antrim\, BT71RS\, United Kingdom
CATEGORIES:DJ
ATTACH;FMTTYPE=image/jpeg:https://laverys.com/wp-content/uploads/2025/07/Screenshot-2025-06-28-at-01.36.05.jpg
ORGANIZER;CN="Lavery's":MAILTO:info@laverys.com
END:VEVENT
BEGIN:VEVENT
DTSTART;TZID=UTC:20260613T210000
DTEND;TZID=UTC:20260614T011500
DTSTAMP:20260420T224757
CREATED:20260309T111647Z
LAST-MODIFIED:20260324T152200Z
UID:10004519-1781384400-1781399700@laverys.com
SUMMARY:Resident DJs: Caoimhe Moreland
DESCRIPTION:Caoimhe blew up rapidly after winning the AVA Emerging DJ Competition\, since then she’s played their main stage multiple times and been showcased by Mixmag and HÖR. \n\nWith all of this experience\, the night is in capable hands with Caoimhe.
URL:https://laverys.com/event/resident-djs-caoimhe-moreland-2/2026-06-13/
LOCATION:Lavery’s\, 12-18 Bradbury Place\, Belfast\, Antrim\, BT71RS\, United Kingdom
CATEGORIES:DJ
ATTACH;FMTTYPE=image/jpeg:https://laverys.com/wp-content/uploads/2026/01/Screenshot-2026-01-07-at-14.23.24-e1767796022150.jpg
ORGANIZER;CN="Lavery's":MAILTO:info@laverys.com
END:VEVENT
END:VCALENDAR