BEGIN:VCALENDAR
VERSION:2.0
PRODID:-//Lavery&#039;s - ECPv6.15.18//NONSGML v1.0//EN
CALSCALE:GREGORIAN
METHOD:PUBLISH
X-ORIGINAL-URL:https://laverys.com
X-WR-CALDESC:Events for Lavery&#039;s
REFRESH-INTERVAL;VALUE=DURATION:PT1H
X-Robots-Tag:noindex
X-PUBLISHED-TTL:PT1H
BEGIN:VTIMEZONE
TZID:UTC
BEGIN:STANDARD
TZOFFSETFROM:+0000
TZOFFSETTO:+0000
TZNAME:UTC
DTSTART:20250101T000000
END:STANDARD
END:VTIMEZONE
BEGIN:VEVENT
DTSTART;TZID=UTC:20260701T193000
DTEND;TZID=UTC:20260701T233000
DTSTAMP:20260421T065333
CREATED:20230519T102146Z
LAST-MODIFIED:20240311T215058Z
UID:10000367-1782934200-1782948600@laverys.com
SUMMARY:Lavery's Comedy Club
DESCRIPTION:All dates are currently on sale here. If the date you are looking for is not on sale yet\, please check back soon.
URL:https://laverys.com/event/laverys-comedy-club-4-2/2026-07-01/
LOCATION:Tom’s\, 12-18 Bradbury Place\, Belfast\, Antrim\, BT71RS\, United Kingdom
CATEGORIES:Lavery's Comedy Club
ATTACH;FMTTYPE=image/png:https://laverys.com/wp-content/uploads/2023/02/Facebook-Event2-1.png
ORGANIZER;CN="Both Barrels Comedy":MAILTO:comedy@laverys.com
END:VEVENT
BEGIN:VEVENT
DTSTART;TZID=UTC:20260702T193000
DTEND;TZID=UTC:20260702T233000
DTSTAMP:20260421T065333
CREATED:20230519T102146Z
LAST-MODIFIED:20240311T215058Z
UID:10000368-1783020600-1783035000@laverys.com
SUMMARY:Lavery's Comedy Club
DESCRIPTION:All dates are currently on sale here. If the date you are looking for is not on sale yet\, please check back soon.
URL:https://laverys.com/event/laverys-comedy-club-4-2/2026-07-02/
LOCATION:Tom’s\, 12-18 Bradbury Place\, Belfast\, Antrim\, BT71RS\, United Kingdom
CATEGORIES:Lavery's Comedy Club
ATTACH;FMTTYPE=image/png:https://laverys.com/wp-content/uploads/2023/02/Facebook-Event2-1.png
ORGANIZER;CN="Both Barrels Comedy":MAILTO:comedy@laverys.com
END:VEVENT
BEGIN:VEVENT
DTSTART;TZID=UTC:20260703T210000
DTEND;TZID=UTC:20260704T011500
DTSTAMP:20260421T065333
CREATED:20260108T155628Z
LAST-MODIFIED:20260324T145759Z
UID:10004492-1783112400-1783127700@laverys.com
SUMMARY:Resident DJs - Phil Lucas
DESCRIPTION:Phil Lucas is one half of Twitch Belfast\, one of the city’s longest-running and most influential independent electronic music nights. He’s been involved in AVA Festival since its start 9 years ago and is a huge supporter of other local DJ talents. Twitch has been on the go for almost 18 years drawing big names like Ben UFO\, Joy Orbison\, Shanti Celeste\, Erol Alkan and Orbital. We feel very fortunate to have Phil has a resident DJ.
URL:https://laverys.com/event/resident-djs-phil-lucas-2/2026-07-03/
LOCATION:Lavery’s\, 12-18 Bradbury Place\, Belfast\, Antrim\, BT71RS\, United Kingdom
CATEGORIES:DJ
ATTACH;FMTTYPE=image/jpeg:https://laverys.com/wp-content/uploads/2026/01/291A9753-Enhanced-NR-copy-3-e1767792094120.jpg
ORGANIZER;CN="Lavery's":MAILTO:info@laverys.com
END:VEVENT
BEGIN:VEVENT
DTSTART;TZID=UTC:20260704T210000
DTEND;TZID=UTC:20260705T011500
DTSTAMP:20260421T065333
CREATED:20260309T153903Z
LAST-MODIFIED:20260324T150328Z
UID:10004503-1783198800-1783214100@laverys.com
SUMMARY:Resident DJs: Scott Lowry
DESCRIPTION:Eclectic selector and rowdy party starter\, Scott is one of Lavery’s longest standing resident DJs and for good reason. One of the most talented DJs in the Belfast scene\, Scott’s knowledge of music is as deep as the Marinas Trench.
URL:https://laverys.com/event/resident-djs-scott-lowry-3/2026-07-04/
LOCATION:Lavery’s\, 12-18 Bradbury Place\, Belfast\, Antrim\, BT71RS\, United Kingdom
CATEGORIES:DJ
ATTACH;FMTTYPE=image/jpeg:https://laverys.com/wp-content/uploads/2026/01/Screenshot-2026-01-08-at-16.25.17-e1767889590490.jpg
ORGANIZER;CN="Lavery's":MAILTO:info@laverys.com
END:VEVENT
END:VCALENDAR